BEGIN:VCALENDAR
VERSION:2.0
PRODID:-//DBC - ECPv6.15.20//NONSGML v1.0//EN
CALSCALE:GREGORIAN
METHOD:PUBLISH
X-ORIGINAL-URL:https://dagenhambaptistchurch.com
X-WR-CALDESC:Events for DBC
REFRESH-INTERVAL;VALUE=DURATION:PT1H
X-Robots-Tag:noindex
X-PUBLISHED-TTL:PT1H
BEGIN:VTIMEZONE
TZID:Europe/London
BEGIN:DAYLIGHT
TZOFFSETFROM:+0000
TZOFFSETTO:+0100
TZNAME:BST
DTSTART:20180325T010000
END:DAYLIGHT
BEGIN:STANDARD
TZOFFSETFROM:+0100
TZOFFSETTO:+0000
TZNAME:GMT
DTSTART:20181028T010000
END:STANDARD
BEGIN:DAYLIGHT
TZOFFSETFROM:+0000
TZOFFSETTO:+0100
TZNAME:BST
DTSTART:20190331T010000
END:DAYLIGHT
BEGIN:STANDARD
TZOFFSETFROM:+0100
TZOFFSETTO:+0000
TZNAME:GMT
DTSTART:20191027T010000
END:STANDARD
BEGIN:DAYLIGHT
TZOFFSETFROM:+0000
TZOFFSETTO:+0100
TZNAME:BST
DTSTART:20200329T010000
END:DAYLIGHT
BEGIN:STANDARD
TZOFFSETFROM:+0100
TZOFFSETTO:+0000
TZNAME:GMT
DTSTART:20201025T010000
END:STANDARD
END:VTIMEZONE
BEGIN:VEVENT
DTSTART;TZID=Europe/London:20190324T180000
DTEND;TZID=Europe/London:20190324T183000
DTSTAMP:20260424T134212
CREATED:20190302T220138Z
LAST-MODIFIED:20190302T220143Z
UID:2606-1553450400-1553452200@dagenhambaptistchurch.com
SUMMARY:Prayer meeting
DESCRIPTION:Rev Norman Tharby
URL:https://dagenhambaptistchurch.com/event/prayer-meeting-176/
LOCATION:Church Premises\, Dagenham\, United Kingdom
END:VEVENT
BEGIN:VEVENT
DTSTART;TZID=Europe/London:20190324T105000
DTEND;TZID=Europe/London:20190324T120000
DTSTAMP:20260424T134212
CREATED:20190302T220052Z
LAST-MODIFIED:20190302T220057Z
UID:2604-1553424600-1553428800@dagenhambaptistchurch.com
SUMMARY:Family worship
DESCRIPTION:Rev Norman Tharby
URL:https://dagenhambaptistchurch.com/event/family-worship-110/
LOCATION:Church Premises\, Dagenham\, United Kingdom
END:VEVENT
BEGIN:VEVENT
DTSTART;TZID=Europe/London:20190320T195000
DTEND;TZID=Europe/London:20190320T210000
DTSTAMP:20260424T134212
CREATED:20190302T220657Z
LAST-MODIFIED:20190302T220701Z
UID:2620-1553111400-1553115600@dagenhambaptistchurch.com
SUMMARY:Bible study
DESCRIPTION:Pastor Brenda Toft
URL:https://dagenhambaptistchurch.com/event/bible-study-133/
LOCATION:Church Premises\, Dagenham\, United Kingdom
END:VEVENT
BEGIN:VEVENT
DTSTART;TZID=Europe/London:20190317T183000
DTEND;TZID=Europe/London:20190317T193000
DTSTAMP:20260424T134212
CREATED:20190302T215933Z
LAST-MODIFIED:20190302T215937Z
UID:2602-1552847400-1552851000@dagenhambaptistchurch.com
SUMMARY:Evening service
DESCRIPTION:Pastor Brenda Toft
URL:https://dagenhambaptistchurch.com/event/evening-service-129/
LOCATION:Church Premises\, Dagenham\, United Kingdom
END:VEVENT
BEGIN:VEVENT
DTSTART;TZID=Europe/London:20190317T180000
DTEND;TZID=Europe/London:20190317T183000
DTSTAMP:20260424T134212
CREATED:20190302T215855Z
LAST-MODIFIED:20190302T215901Z
UID:2600-1552845600-1552847400@dagenhambaptistchurch.com
SUMMARY:Prayer meeting
DESCRIPTION:Pastor Brenda Toft
URL:https://dagenhambaptistchurch.com/event/prayer-meeting-175/
LOCATION:Church Premises\, Dagenham\, United Kingdom
END:VEVENT
BEGIN:VEVENT
DTSTART;TZID=Europe/London:20190317T105000
DTEND;TZID=Europe/London:20190317T120000
DTSTAMP:20260424T134212
CREATED:20190302T215813Z
LAST-MODIFIED:20190302T215817Z
UID:2598-1552819800-1552824000@dagenhambaptistchurch.com
SUMMARY:Family worship & Communion
DESCRIPTION:Pastor Brenda Toft
URL:https://dagenhambaptistchurch.com/event/family-worship-communion-22/
LOCATION:Church Premises\, Dagenham\, United Kingdom
END:VEVENT
BEGIN:VEVENT
DTSTART;TZID=Europe/London:20190313T195000
DTEND;TZID=Europe/London:20190313T210000
DTSTAMP:20260424T134212
CREATED:20190302T220620Z
LAST-MODIFIED:20190302T220624Z
UID:2618-1552506600-1552510800@dagenhambaptistchurch.com
SUMMARY:Bible study
DESCRIPTION:Pastor Brenda Toft
URL:https://dagenhambaptistchurch.com/event/bible-study-132/
LOCATION:Church Premises\, Dagenham\, United Kingdom
END:VEVENT
BEGIN:VEVENT
DTSTART;TZID=Europe/London:20190310T183000
DTEND;TZID=Europe/London:20190310T193000
DTSTAMP:20260424T134212
CREATED:20190302T215716Z
LAST-MODIFIED:20190302T215721Z
UID:2596-1552242600-1552246200@dagenhambaptistchurch.com
SUMMARY:Evening service
DESCRIPTION:Pastor Brenda Toft
URL:https://dagenhambaptistchurch.com/event/evening-service-128/
LOCATION:Church Premises\, Dagenham\, United Kingdom
END:VEVENT
BEGIN:VEVENT
DTSTART;TZID=Europe/London:20190310T180000
DTEND;TZID=Europe/London:20190310T183000
DTSTAMP:20260424T134212
CREATED:20190302T215531Z
LAST-MODIFIED:20190302T215536Z
UID:2594-1552240800-1552242600@dagenhambaptistchurch.com
SUMMARY:Prayer meeting
DESCRIPTION:Pastor Brenda Toft
URL:https://dagenhambaptistchurch.com/event/prayer-meeting-174/
LOCATION:Church Premises\, Dagenham\, United Kingdom
END:VEVENT
BEGIN:VEVENT
DTSTART;TZID=Europe/London:20190310T105000
DTEND;TZID=Europe/London:20190310T120000
DTSTAMP:20260424T134212
CREATED:20190302T215458Z
LAST-MODIFIED:20190302T215503Z
UID:2592-1552215000-1552219200@dagenhambaptistchurch.com
SUMMARY:Family worship & Parade
DESCRIPTION:Pastor Brenda Toft
URL:https://dagenhambaptistchurch.com/event/family-worship-parade-24/
LOCATION:Church Premises\, Dagenham\, United Kingdom
END:VEVENT
BEGIN:VEVENT
DTSTART;TZID=Europe/London:20190306T195000
DTEND;TZID=Europe/London:20190306T210000
DTSTAMP:20260424T134212
CREATED:20190302T220538Z
LAST-MODIFIED:20190302T220538Z
UID:2616-1551901800-1551906000@dagenhambaptistchurch.com
SUMMARY:Bible study
DESCRIPTION:Pastor Brenda Toft
URL:https://dagenhambaptistchurch.com/event/bible-study-131/
LOCATION:Church Premises\, Dagenham\, United Kingdom
END:VEVENT
BEGIN:VEVENT
DTSTART;TZID=Europe/London:20190303T183000
DTEND;TZID=Europe/London:20190303T193000
DTSTAMP:20260424T134212
CREATED:20190302T215330Z
LAST-MODIFIED:20190302T215411Z
UID:2588-1551637800-1551641400@dagenhambaptistchurch.com
SUMMARY:Evening service & Communion
DESCRIPTION:Pastor Brenda Toft
URL:https://dagenhambaptistchurch.com/event/evening-service-127/
LOCATION:Church Premises\, Dagenham\, United Kingdom
END:VEVENT
BEGIN:VEVENT
DTSTART;TZID=Europe/London:20190303T180000
DTEND;TZID=Europe/London:20190303T183000
DTSTAMP:20260424T134212
CREATED:20190302T215249Z
LAST-MODIFIED:20190302T215256Z
UID:2586-1551636000-1551637800@dagenhambaptistchurch.com
SUMMARY:Prayer meeting
DESCRIPTION:Pastor Brenda Toft
URL:https://dagenhambaptistchurch.com/event/prayer-meeting-173/
LOCATION:Church Premises\, Dagenham\, United Kingdom
END:VEVENT
BEGIN:VEVENT
DTSTART;TZID=Europe/London:20190303T105000
DTEND;TZID=Europe/London:20190303T120000
DTSTAMP:20260424T134212
CREATED:20190302T215056Z
LAST-MODIFIED:20190302T215217Z
UID:2584-1551610200-1551614400@dagenhambaptistchurch.com
SUMMARY:Family worship
DESCRIPTION:Pastor Brenda Toft
URL:https://dagenhambaptistchurch.com/event/family-worship-109/
LOCATION:Church Premises\, Dagenham\, United Kingdom
END:VEVENT
BEGIN:VEVENT
DTSTART;TZID=Europe/London:20190227T195000
DTEND;TZID=Europe/London:20190227T210000
DTSTAMP:20260424T134212
CREATED:20190128T191822Z
LAST-MODIFIED:20190128T191827Z
UID:2560-1551297000-1551301200@dagenhambaptistchurch.com
SUMMARY:Bible study
DESCRIPTION:Pastor Brenda Toft
URL:https://dagenhambaptistchurch.com/event/bible-study-130/
LOCATION:Church Premises\, Dagenham\, United Kingdom
END:VEVENT
BEGIN:VEVENT
DTSTART;TZID=Europe/London:20190224T183000
DTEND;TZID=Europe/London:20190224T193000
DTSTAMP:20260424T134212
CREATED:20190128T191540Z
LAST-MODIFIED:20190128T191545Z
UID:2536-1551033000-1551036600@dagenhambaptistchurch.com
SUMMARY:Evening service
DESCRIPTION:Pastor Brenda Toft
URL:https://dagenhambaptistchurch.com/event/evening-service-126/
LOCATION:Church Premises\, Dagenham\, United Kingdom
END:VEVENT
BEGIN:VEVENT
DTSTART;TZID=Europe/London:20190224T180000
DTEND;TZID=Europe/London:20190224T183000
DTSTAMP:20260424T134212
CREATED:20190128T191506Z
LAST-MODIFIED:20190128T191511Z
UID:2530-1551031200-1551033000@dagenhambaptistchurch.com
SUMMARY:Prayer meeting
DESCRIPTION:Pastor Brenda Toft
URL:https://dagenhambaptistchurch.com/event/prayer-meeting-172/
LOCATION:Church Premises\, Dagenham\, United Kingdom
END:VEVENT
BEGIN:VEVENT
DTSTART;TZID=Europe/London:20190224T105000
DTEND;TZID=Europe/London:20190224T120000
DTSTAMP:20260424T134212
CREATED:20190128T191433Z
LAST-MODIFIED:20190128T191437Z
UID:2524-1551005400-1551009600@dagenhambaptistchurch.com
SUMMARY:Family worship
DESCRIPTION:Pastor Brenda Toft
URL:https://dagenhambaptistchurch.com/event/family-worship-108/
LOCATION:Church Premises\, Dagenham\, United Kingdom
END:VEVENT
BEGIN:VEVENT
DTSTART;TZID=Europe/London:20190220T195000
DTEND;TZID=Europe/London:20190220T210000
DTSTAMP:20260424T134212
CREATED:20190128T191745Z
LAST-MODIFIED:20190128T191750Z
UID:2554-1550692200-1550696400@dagenhambaptistchurch.com
SUMMARY:Bible study
DESCRIPTION:Pastor Brenda Toft
URL:https://dagenhambaptistchurch.com/event/bible-study-129/
LOCATION:Church Premises\, Dagenham\, United Kingdom
END:VEVENT
BEGIN:VEVENT
DTSTART;TZID=Europe/London:20190217T183000
DTEND;TZID=Europe/London:20190217T193000
DTSTAMP:20260424T134212
CREATED:20190128T191350Z
LAST-MODIFIED:20190128T191355Z
UID:2518-1550428200-1550431800@dagenhambaptistchurch.com
SUMMARY:Evening service
DESCRIPTION:Rev Stephen McLean
URL:https://dagenhambaptistchurch.com/event/evening-service-125/
LOCATION:Church Premises\, Dagenham\, United Kingdom
END:VEVENT
BEGIN:VEVENT
DTSTART;TZID=Europe/London:20190217T180000
DTEND;TZID=Europe/London:20190217T183000
DTSTAMP:20260424T134212
CREATED:20190128T191306Z
LAST-MODIFIED:20190128T191312Z
UID:2512-1550426400-1550428200@dagenhambaptistchurch.com
SUMMARY:Prayer meeting
DESCRIPTION:Rev Stephen McLean
URL:https://dagenhambaptistchurch.com/event/prayer-meeting-171/
LOCATION:Church Premises\, Dagenham\, United Kingdom
END:VEVENT
BEGIN:VEVENT
DTSTART;TZID=Europe/London:20190217T105000
DTEND;TZID=Europe/London:20190217T120000
DTSTAMP:20260424T134212
CREATED:20190128T191219Z
LAST-MODIFIED:20190128T191224Z
UID:2504-1550400600-1550404800@dagenhambaptistchurch.com
SUMMARY:Family worship & Communion
DESCRIPTION:Rev Stephen McLean
URL:https://dagenhambaptistchurch.com/event/family-worship-communion-21/
LOCATION:Church Premises\, Dagenham\, United Kingdom
END:VEVENT
BEGIN:VEVENT
DTSTART;TZID=Europe/London:20190213T195000
DTEND;TZID=Europe/London:20190213T210000
DTSTAMP:20260424T134212
CREATED:20190128T191706Z
LAST-MODIFIED:20190128T191711Z
UID:2548-1550087400-1550091600@dagenhambaptistchurch.com
SUMMARY:Bible study
DESCRIPTION:Pastor Brenda Toft
URL:https://dagenhambaptistchurch.com/event/bible-study-128/
LOCATION:Church Premises\, Dagenham\, United Kingdom
END:VEVENT
BEGIN:VEVENT
DTSTART;TZID=Europe/London:20190210T183000
DTEND;TZID=Europe/London:20190210T193000
DTSTAMP:20260424T134212
CREATED:20190128T191049Z
LAST-MODIFIED:20190128T191053Z
UID:2498-1549823400-1549827000@dagenhambaptistchurch.com
SUMMARY:Evening service
DESCRIPTION:Pastor Brenda Toft
URL:https://dagenhambaptistchurch.com/event/evening-service-124/
LOCATION:Church Premises\, Dagenham\, United Kingdom
END:VEVENT
BEGIN:VEVENT
DTSTART;TZID=Europe/London:20190210T180000
DTEND;TZID=Europe/London:20190210T183000
DTSTAMP:20260424T134212
CREATED:20190128T190920Z
LAST-MODIFIED:20190128T190925Z
UID:2485-1549821600-1549823400@dagenhambaptistchurch.com
SUMMARY:Prayer meeting
DESCRIPTION:Pastor Brenda Toft
URL:https://dagenhambaptistchurch.com/event/prayer-meeting-170/
LOCATION:Church Premises\, Dagenham\, United Kingdom
END:VEVENT
BEGIN:VEVENT
DTSTART;TZID=Europe/London:20190210T105000
DTEND;TZID=Europe/London:20190210T120000
DTSTAMP:20260424T134212
CREATED:20190128T190836Z
LAST-MODIFIED:20190128T190841Z
UID:2476-1549795800-1549800000@dagenhambaptistchurch.com
SUMMARY:Family worship & Parade
DESCRIPTION:Girls Brigade
URL:https://dagenhambaptistchurch.com/event/family-worship-parade-23/
LOCATION:Church Premises\, Dagenham\, United Kingdom
END:VEVENT
BEGIN:VEVENT
DTSTART;TZID=Europe/London:20190206T195000
DTEND;TZID=Europe/London:20190206T210000
DTSTAMP:20260424T134212
CREATED:20190128T191622Z
LAST-MODIFIED:20190128T191626Z
UID:2542-1549482600-1549486800@dagenhambaptistchurch.com
SUMMARY:Bible study
DESCRIPTION:Pastor Brenda Toft
URL:https://dagenhambaptistchurch.com/event/bible-study-127/
LOCATION:Church Premises\, Dagenham\, United Kingdom
END:VEVENT
BEGIN:VEVENT
DTSTART;TZID=Europe/London:20190203T183000
DTEND;TZID=Europe/London:20190203T193000
DTSTAMP:20260424T134212
CREATED:20190128T190629Z
LAST-MODIFIED:20190128T190634Z
UID:2470-1549218600-1549222200@dagenhambaptistchurch.com
SUMMARY:Evenig service & Communion
DESCRIPTION:Pastor Brenda Toft
URL:https://dagenhambaptistchurch.com/event/evenig-service-communion/
LOCATION:Church Premises\, Dagenham\, United Kingdom
END:VEVENT
BEGIN:VEVENT
DTSTART;TZID=Europe/London:20190203T180000
DTEND;TZID=Europe/London:20190203T183000
DTSTAMP:20260424T134212
CREATED:20190128T190547Z
LAST-MODIFIED:20190128T190552Z
UID:2464-1549216800-1549218600@dagenhambaptistchurch.com
SUMMARY:Prayer meeting
DESCRIPTION:Pastor Brenda Toft
URL:https://dagenhambaptistchurch.com/event/prayer-meeting-169/
LOCATION:Church Premises\, Dagenham\, United Kingdom
END:VEVENT
BEGIN:VEVENT
DTSTART;TZID=Europe/London:20190203T105000
DTEND;TZID=Europe/London:20190203T120000
DTSTAMP:20260424T134212
CREATED:20190128T190515Z
LAST-MODIFIED:20190128T190519Z
UID:2456-1549191000-1549195200@dagenhambaptistchurch.com
SUMMARY:Family worship
DESCRIPTION:Pastor Brenda Toft
URL:https://dagenhambaptistchurch.com/event/family-worship-107/
LOCATION:Church Premises\, Dagenham\, United Kingdom
END:VEVENT
END:VCALENDAR