BEGIN:VCALENDAR
VERSION:2.0
PRODID:-//DBC - ECPv6.15.20//NONSGML v1.0//EN
CALSCALE:GREGORIAN
METHOD:PUBLISH
X-ORIGINAL-URL:https://dagenhambaptistchurch.com
X-WR-CALDESC:Events for DBC
REFRESH-INTERVAL;VALUE=DURATION:PT1H
X-Robots-Tag:noindex
X-PUBLISHED-TTL:PT1H
BEGIN:VTIMEZONE
TZID:Europe/London
BEGIN:DAYLIGHT
TZOFFSETFROM:+0000
TZOFFSETTO:+0100
TZNAME:BST
DTSTART:20170326T010000
END:DAYLIGHT
BEGIN:STANDARD
TZOFFSETFROM:+0100
TZOFFSETTO:+0000
TZNAME:GMT
DTSTART:20171029T010000
END:STANDARD
BEGIN:DAYLIGHT
TZOFFSETFROM:+0000
TZOFFSETTO:+0100
TZNAME:BST
DTSTART:20180325T010000
END:DAYLIGHT
BEGIN:STANDARD
TZOFFSETFROM:+0100
TZOFFSETTO:+0000
TZNAME:GMT
DTSTART:20181028T010000
END:STANDARD
BEGIN:DAYLIGHT
TZOFFSETFROM:+0000
TZOFFSETTO:+0100
TZNAME:BST
DTSTART:20190331T010000
END:DAYLIGHT
BEGIN:STANDARD
TZOFFSETFROM:+0100
TZOFFSETTO:+0000
TZNAME:GMT
DTSTART:20191027T010000
END:STANDARD
BEGIN:DAYLIGHT
TZOFFSETFROM:+0000
TZOFFSETTO:+0100
TZNAME:BST
DTSTART:20200329T010000
END:DAYLIGHT
BEGIN:STANDARD
TZOFFSETFROM:+0100
TZOFFSETTO:+0000
TZNAME:GMT
DTSTART:20201025T010000
END:STANDARD
END:VTIMEZONE
BEGIN:VEVENT
DTSTART;TZID=Europe/London:20190217T180000
DTEND;TZID=Europe/London:20190217T183000
DTSTAMP:20260424T164443
CREATED:20190128T191306Z
LAST-MODIFIED:20190128T191312Z
UID:2512-1550426400-1550428200@dagenhambaptistchurch.com
SUMMARY:Prayer meeting
DESCRIPTION:Rev Stephen McLean
URL:https://dagenhambaptistchurch.com/event/prayer-meeting-171/
LOCATION:Church Premises\, Dagenham\, United Kingdom
END:VEVENT
BEGIN:VEVENT
DTSTART;TZID=Europe/London:20190217T105000
DTEND;TZID=Europe/London:20190217T120000
DTSTAMP:20260424T164443
CREATED:20190128T191219Z
LAST-MODIFIED:20190128T191224Z
UID:2504-1550400600-1550404800@dagenhambaptistchurch.com
SUMMARY:Family worship & Communion
DESCRIPTION:Rev Stephen McLean
URL:https://dagenhambaptistchurch.com/event/family-worship-communion-21/
LOCATION:Church Premises\, Dagenham\, United Kingdom
END:VEVENT
BEGIN:VEVENT
DTSTART;TZID=Europe/London:20190213T195000
DTEND;TZID=Europe/London:20190213T210000
DTSTAMP:20260424T164443
CREATED:20190128T191706Z
LAST-MODIFIED:20190128T191711Z
UID:2548-1550087400-1550091600@dagenhambaptistchurch.com
SUMMARY:Bible study
DESCRIPTION:Pastor Brenda Toft
URL:https://dagenhambaptistchurch.com/event/bible-study-128/
LOCATION:Church Premises\, Dagenham\, United Kingdom
END:VEVENT
BEGIN:VEVENT
DTSTART;TZID=Europe/London:20190210T183000
DTEND;TZID=Europe/London:20190210T193000
DTSTAMP:20260424T164443
CREATED:20190128T191049Z
LAST-MODIFIED:20190128T191053Z
UID:2498-1549823400-1549827000@dagenhambaptistchurch.com
SUMMARY:Evening service
DESCRIPTION:Pastor Brenda Toft
URL:https://dagenhambaptistchurch.com/event/evening-service-124/
LOCATION:Church Premises\, Dagenham\, United Kingdom
END:VEVENT
BEGIN:VEVENT
DTSTART;TZID=Europe/London:20190210T180000
DTEND;TZID=Europe/London:20190210T183000
DTSTAMP:20260424T164443
CREATED:20190128T190920Z
LAST-MODIFIED:20190128T190925Z
UID:2485-1549821600-1549823400@dagenhambaptistchurch.com
SUMMARY:Prayer meeting
DESCRIPTION:Pastor Brenda Toft
URL:https://dagenhambaptistchurch.com/event/prayer-meeting-170/
LOCATION:Church Premises\, Dagenham\, United Kingdom
END:VEVENT
BEGIN:VEVENT
DTSTART;TZID=Europe/London:20190210T105000
DTEND;TZID=Europe/London:20190210T120000
DTSTAMP:20260424T164443
CREATED:20190128T190836Z
LAST-MODIFIED:20190128T190841Z
UID:2476-1549795800-1549800000@dagenhambaptistchurch.com
SUMMARY:Family worship & Parade
DESCRIPTION:Girls Brigade
URL:https://dagenhambaptistchurch.com/event/family-worship-parade-23/
LOCATION:Church Premises\, Dagenham\, United Kingdom
END:VEVENT
BEGIN:VEVENT
DTSTART;TZID=Europe/London:20190206T195000
DTEND;TZID=Europe/London:20190206T210000
DTSTAMP:20260424T164443
CREATED:20190128T191622Z
LAST-MODIFIED:20190128T191626Z
UID:2542-1549482600-1549486800@dagenhambaptistchurch.com
SUMMARY:Bible study
DESCRIPTION:Pastor Brenda Toft
URL:https://dagenhambaptistchurch.com/event/bible-study-127/
LOCATION:Church Premises\, Dagenham\, United Kingdom
END:VEVENT
BEGIN:VEVENT
DTSTART;TZID=Europe/London:20190203T183000
DTEND;TZID=Europe/London:20190203T193000
DTSTAMP:20260424T164443
CREATED:20190128T190629Z
LAST-MODIFIED:20190128T190634Z
UID:2470-1549218600-1549222200@dagenhambaptistchurch.com
SUMMARY:Evenig service & Communion
DESCRIPTION:Pastor Brenda Toft
URL:https://dagenhambaptistchurch.com/event/evenig-service-communion/
LOCATION:Church Premises\, Dagenham\, United Kingdom
END:VEVENT
BEGIN:VEVENT
DTSTART;TZID=Europe/London:20190203T180000
DTEND;TZID=Europe/London:20190203T183000
DTSTAMP:20260424T164443
CREATED:20190128T190547Z
LAST-MODIFIED:20190128T190552Z
UID:2464-1549216800-1549218600@dagenhambaptistchurch.com
SUMMARY:Prayer meeting
DESCRIPTION:Pastor Brenda Toft
URL:https://dagenhambaptistchurch.com/event/prayer-meeting-169/
LOCATION:Church Premises\, Dagenham\, United Kingdom
END:VEVENT
BEGIN:VEVENT
DTSTART;TZID=Europe/London:20190203T105000
DTEND;TZID=Europe/London:20190203T120000
DTSTAMP:20260424T164443
CREATED:20190128T190515Z
LAST-MODIFIED:20190128T190519Z
UID:2456-1549191000-1549195200@dagenhambaptistchurch.com
SUMMARY:Family worship
DESCRIPTION:Pastor Brenda Toft
URL:https://dagenhambaptistchurch.com/event/family-worship-107/
LOCATION:Church Premises\, Dagenham\, United Kingdom
END:VEVENT
BEGIN:VEVENT
DTSTART;TZID=Europe/London:20190127T183000
DTEND;TZID=Europe/London:20190127T193000
DTSTAMP:20260424T164443
CREATED:20181202T152926Z
LAST-MODIFIED:20181202T153000Z
UID:2393-1548613800-1548617400@dagenhambaptistchurch.com
SUMMARY:Evening service
DESCRIPTION:Pastor Brenda Toft
URL:https://dagenhambaptistchurch.com/event/evening-service-123/
LOCATION:Church Premises\, Dagenham\, United Kingdom
END:VEVENT
BEGIN:VEVENT
DTSTART;TZID=Europe/London:20190127T180000
DTEND;TZID=Europe/London:20190127T183000
DTSTAMP:20260424T164443
CREATED:20181202T152818Z
LAST-MODIFIED:20181202T152822Z
UID:2391-1548612000-1548613800@dagenhambaptistchurch.com
SUMMARY:Prayer meeting
DESCRIPTION:Pastor Brenda Toft
URL:https://dagenhambaptistchurch.com/event/prayer-meeting-168/
LOCATION:Church Premises\, Dagenham\, United Kingdom
END:VEVENT
BEGIN:VEVENT
DTSTART;TZID=Europe/London:20190127T105000
DTEND;TZID=Europe/London:20190127T120000
DTSTAMP:20260424T164443
CREATED:20181202T152732Z
LAST-MODIFIED:20181202T152736Z
UID:2389-1548586200-1548590400@dagenhambaptistchurch.com
SUMMARY:Family worship
DESCRIPTION:Pastor Brenda Toft
URL:https://dagenhambaptistchurch.com/event/family-worship-106/
LOCATION:Church Premises\, Dagenham\, United Kingdom
END:VEVENT
BEGIN:VEVENT
DTSTART;TZID=Europe/London:20190120T183000
DTEND;TZID=Europe/London:20190120T193000
DTSTAMP:20260424T164443
CREATED:20181202T152611Z
LAST-MODIFIED:20181202T152615Z
UID:2386-1548009000-1548012600@dagenhambaptistchurch.com
SUMMARY:Evening service
DESCRIPTION:Pastor Brenda Toft
URL:https://dagenhambaptistchurch.com/event/evening-service-122/
LOCATION:Church Premises\, Dagenham\, United Kingdom
END:VEVENT
BEGIN:VEVENT
DTSTART;TZID=Europe/London:20190120T180000
DTEND;TZID=Europe/London:20190120T183000
DTSTAMP:20260424T164443
CREATED:20181202T152528Z
LAST-MODIFIED:20181202T152532Z
UID:2384-1548007200-1548009000@dagenhambaptistchurch.com
SUMMARY:Prayer meeting
DESCRIPTION:Pastor Brenda Toft
URL:https://dagenhambaptistchurch.com/event/prayer-meeting-167/
LOCATION:Church Premises\, Dagenham\, United Kingdom
END:VEVENT
BEGIN:VEVENT
DTSTART;TZID=Europe/London:20190120T105000
DTEND;TZID=Europe/London:20190120T120000
DTSTAMP:20260424T164443
CREATED:20181202T152341Z
LAST-MODIFIED:20181202T152352Z
UID:2382-1547981400-1547985600@dagenhambaptistchurch.com
SUMMARY:Family worship and Communion
DESCRIPTION:Pastor Brenda Toft
URL:https://dagenhambaptistchurch.com/event/family-worship-and-communion-4/
LOCATION:Church Premises\, Dagenham\, United Kingdom
END:VEVENT
BEGIN:VEVENT
DTSTART;TZID=Europe/London:20190113T183000
DTEND;TZID=Europe/London:20190113T193000
DTSTAMP:20260424T164443
CREATED:20181202T152256Z
LAST-MODIFIED:20181202T152300Z
UID:2380-1547404200-1547407800@dagenhambaptistchurch.com
SUMMARY:Evening service
DESCRIPTION:Pastor Brenda Toft
URL:https://dagenhambaptistchurch.com/event/evening-service-121/
LOCATION:Church Premises\, Dagenham\, United Kingdom
END:VEVENT
BEGIN:VEVENT
DTSTART;TZID=Europe/London:20190113T180000
DTEND;TZID=Europe/London:20190113T183000
DTSTAMP:20260424T164443
CREATED:20181202T152225Z
LAST-MODIFIED:20181202T152230Z
UID:2378-1547402400-1547404200@dagenhambaptistchurch.com
SUMMARY:Prayer meeting
DESCRIPTION:Pastor Brenda Toft
URL:https://dagenhambaptistchurch.com/event/prayer-meeting-166/
LOCATION:Church Premises\, Dagenham\, United Kingdom
END:VEVENT
BEGIN:VEVENT
DTSTART;TZID=Europe/London:20190113T105000
DTEND;TZID=Europe/London:20190113T120000
DTSTAMP:20260424T164443
CREATED:20181202T152151Z
LAST-MODIFIED:20181202T152157Z
UID:2376-1547376600-1547380800@dagenhambaptistchurch.com
SUMMARY:Family worship and Parade
DESCRIPTION:Pastor Brenda Toft
URL:https://dagenhambaptistchurch.com/event/family-worship-and-parade-2/
LOCATION:Church Premises\, Dagenham\, United Kingdom
END:VEVENT
BEGIN:VEVENT
DTSTART;TZID=Europe/London:20190106T183000
DTEND;TZID=Europe/London:20190106T193000
DTSTAMP:20260424T164443
CREATED:20181202T152022Z
LAST-MODIFIED:20181202T152027Z
UID:2374-1546799400-1546803000@dagenhambaptistchurch.com
SUMMARY:Covenant and Communion
DESCRIPTION:Pastor Brenda Toft
URL:https://dagenhambaptistchurch.com/event/covenant-and-communion-2/
LOCATION:Church Premises\, Dagenham\, United Kingdom
END:VEVENT
BEGIN:VEVENT
DTSTART;TZID=Europe/London:20190106T180000
DTEND;TZID=Europe/London:20190106T183000
DTSTAMP:20260424T164443
CREATED:20181202T151930Z
LAST-MODIFIED:20181202T151935Z
UID:2372-1546797600-1546799400@dagenhambaptistchurch.com
SUMMARY:Prayer meeting
DESCRIPTION:Pastor Brenda Toft
URL:https://dagenhambaptistchurch.com/event/prayer-meeting-165/
LOCATION:Church Premises\, Dagenham\, United Kingdom
END:VEVENT
BEGIN:VEVENT
DTSTART;TZID=Europe/London:20190106T105000
DTEND;TZID=Europe/London:20190106T120000
DTSTAMP:20260424T164443
CREATED:20181202T151901Z
LAST-MODIFIED:20181202T151905Z
UID:2370-1546771800-1546776000@dagenhambaptistchurch.com
SUMMARY:Family worship
DESCRIPTION:Pastor Brenda Toft
URL:https://dagenhambaptistchurch.com/event/family-worship-105/
LOCATION:Church Premises\, Dagenham\, United Kingdom
END:VEVENT
BEGIN:VEVENT
DTSTART;TZID=Europe/London:20190101T100000
DTEND;TZID=Europe/London:20190101T110000
DTSTAMP:20260424T164443
CREATED:20181202T151812Z
LAST-MODIFIED:20181202T151822Z
UID:2368-1546336800-1546340400@dagenhambaptistchurch.com
SUMMARY:New Year's Day prayer meeting
DESCRIPTION:Pastor Brenda Toft
URL:https://dagenhambaptistchurch.com/event/new-years-day-prayer-meeting/
LOCATION:Church Premises\, Dagenham\, United Kingdom
END:VEVENT
BEGIN:VEVENT
DTSTART;TZID=Europe/London:20181230T105000
DTEND;TZID=Europe/London:20181230T120000
DTSTAMP:20260424T164443
CREATED:20181202T151716Z
LAST-MODIFIED:20181202T151722Z
UID:2366-1546167000-1546171200@dagenhambaptistchurch.com
SUMMARY:Family worship
DESCRIPTION:Pastor Brenda Toft
URL:https://dagenhambaptistchurch.com/event/family-worship-104/
LOCATION:Church Premises\, Dagenham\, United Kingdom
END:VEVENT
BEGIN:VEVENT
DTSTART;TZID=Europe/London:20181225T103000
DTEND;TZID=Europe/London:20181225T111500
DTSTAMP:20260424T164443
CREATED:20181202T151632Z
LAST-MODIFIED:20181202T151637Z
UID:2364-1545733800-1545736500@dagenhambaptistchurch.com
SUMMARY:Celebrate Christmas
DESCRIPTION:Pastor Brenda Toft
URL:https://dagenhambaptistchurch.com/event/celebrate-christmas-2/
END:VEVENT
BEGIN:VEVENT
DTSTART;TZID=Europe/London:20181223T183000
DTEND;TZID=Europe/London:20181223T193000
DTSTAMP:20260424T164443
CREATED:20181202T151520Z
LAST-MODIFIED:20181202T151524Z
UID:2362-1545589800-1545593400@dagenhambaptistchurch.com
SUMMARY:Carols by Candlelight
DESCRIPTION:Pastor Brenda Toft
URL:https://dagenhambaptistchurch.com/event/carols-by-candlelight-3/
END:VEVENT
BEGIN:VEVENT
DTSTART;TZID=Europe/London:20181223T180000
DTEND;TZID=Europe/London:20181223T183000
DTSTAMP:20260424T164443
CREATED:20181202T151433Z
LAST-MODIFIED:20181202T151437Z
UID:2360-1545588000-1545589800@dagenhambaptistchurch.com
SUMMARY:Prayer meeting
DESCRIPTION:Pastor Brenda Toft
URL:https://dagenhambaptistchurch.com/event/prayer-meeting-164/
LOCATION:Church Premises\, Dagenham\, United Kingdom
END:VEVENT
BEGIN:VEVENT
DTSTART;TZID=Europe/London:20181223T105000
DTEND;TZID=Europe/London:20181223T120000
DTSTAMP:20260424T164443
CREATED:20181202T151403Z
LAST-MODIFIED:20181202T151409Z
UID:2358-1545562200-1545566400@dagenhambaptistchurch.com
SUMMARY:Family worship for Christmas
DESCRIPTION:Pastor Brenda Toft
URL:https://dagenhambaptistchurch.com/event/family-worship-for-christmas-2/
LOCATION:Church Premises\, Dagenham\, United Kingdom
END:VEVENT
BEGIN:VEVENT
DTSTART;TZID=Europe/London:20181216T183000
DTEND;TZID=Europe/London:20181216T193000
DTSTAMP:20260424T164443
CREATED:20181202T151328Z
LAST-MODIFIED:20181202T151333Z
UID:2356-1544985000-1544988600@dagenhambaptistchurch.com
SUMMARY:Brass Band Concert and Carols
DESCRIPTION:Pastor Brenda Toft
URL:https://dagenhambaptistchurch.com/event/brass-band-concert-and-carols/
LOCATION:Church Premises\, Dagenham\, United Kingdom
END:VEVENT
BEGIN:VEVENT
DTSTART;TZID=Europe/London:20181216T180000
DTEND;TZID=Europe/London:20181216T183000
DTSTAMP:20260424T164443
CREATED:20181202T151243Z
LAST-MODIFIED:20181202T151248Z
UID:2354-1544983200-1544985000@dagenhambaptistchurch.com
SUMMARY:Prayer meeting
DESCRIPTION:Pastor Brenda Toft
URL:https://dagenhambaptistchurch.com/event/prayer-meeting-163/
LOCATION:Church Premises\, Dagenham\, United Kingdom
END:VEVENT
END:VCALENDAR