BEGIN:VCALENDAR
VERSION:2.0
PRODID:-//DBC - ECPv6.15.20//NONSGML v1.0//EN
CALSCALE:GREGORIAN
METHOD:PUBLISH
X-WR-CALNAME:DBC
X-ORIGINAL-URL:https://dagenhambaptistchurch.com
X-WR-CALDESC:Events for DBC
REFRESH-INTERVAL;VALUE=DURATION:PT1H
X-Robots-Tag:noindex
X-PUBLISHED-TTL:PT1H
BEGIN:VTIMEZONE
TZID:Europe/London
BEGIN:DAYLIGHT
TZOFFSETFROM:+0000
TZOFFSETTO:+0100
TZNAME:BST
DTSTART:20170326T010000
END:DAYLIGHT
BEGIN:STANDARD
TZOFFSETFROM:+0100
TZOFFSETTO:+0000
TZNAME:GMT
DTSTART:20171029T010000
END:STANDARD
BEGIN:DAYLIGHT
TZOFFSETFROM:+0000
TZOFFSETTO:+0100
TZNAME:BST
DTSTART:20180325T010000
END:DAYLIGHT
BEGIN:STANDARD
TZOFFSETFROM:+0100
TZOFFSETTO:+0000
TZNAME:GMT
DTSTART:20181028T010000
END:STANDARD
BEGIN:DAYLIGHT
TZOFFSETFROM:+0000
TZOFFSETTO:+0100
TZNAME:BST
DTSTART:20190331T010000
END:DAYLIGHT
BEGIN:STANDARD
TZOFFSETFROM:+0100
TZOFFSETTO:+0000
TZNAME:GMT
DTSTART:20191027T010000
END:STANDARD
END:VTIMEZONE
BEGIN:VEVENT
DTSTART;TZID=Europe/London:20181125T105000
DTEND;TZID=Europe/London:20181125T120000
DTSTAMP:20260424T223523
CREATED:20181102T184138Z
LAST-MODIFIED:20181102T184315Z
UID:2325-1543143000-1543147200@dagenhambaptistchurch.com
SUMMARY:Family worship
DESCRIPTION:Rev Brenda Toft
URL:https://dagenhambaptistchurch.com/event/family-worship-102/
LOCATION:Church Premises\, Dagenham\, United Kingdom
END:VEVENT
BEGIN:VEVENT
DTSTART;TZID=Europe/London:20181121T195000
DTEND;TZID=Europe/London:20181121T210000
DTSTAMP:20260424T223523
CREATED:20181102T184727Z
LAST-MODIFIED:20181102T184733Z
UID:2335-1542829800-1542834000@dagenhambaptistchurch.com
SUMMARY:Bible study
DESCRIPTION:Rev Brenda Toft
URL:https://dagenhambaptistchurch.com/event/bible-study-125/
LOCATION:Church Premises\, Dagenham\, United Kingdom
END:VEVENT
BEGIN:VEVENT
DTSTART;TZID=Europe/London:20181118T183000
DTEND;TZID=Europe/London:20181118T193000
DTSTAMP:20260424T223523
CREATED:20181102T184043Z
LAST-MODIFIED:20181102T184048Z
UID:2323-1542565800-1542569400@dagenhambaptistchurch.com
SUMMARY:Evening service
DESCRIPTION:Rev Brenda Toft
URL:https://dagenhambaptistchurch.com/event/evening-service-118/
LOCATION:Church Premises\, Dagenham\, United Kingdom
END:VEVENT
BEGIN:VEVENT
DTSTART;TZID=Europe/London:20181118T180000
DTEND;TZID=Europe/London:20181118T183000
DTSTAMP:20260424T223523
CREATED:20181102T184005Z
LAST-MODIFIED:20181102T184011Z
UID:2321-1542564000-1542565800@dagenhambaptistchurch.com
SUMMARY:Prayer meeting
DESCRIPTION:Rev Brenda Toft
URL:https://dagenhambaptistchurch.com/event/prayer-meeting-159/
LOCATION:Church Premises\, Dagenham\, United Kingdom
END:VEVENT
BEGIN:VEVENT
DTSTART;TZID=Europe/London:20181118T105000
DTEND;TZID=Europe/London:20181118T120000
DTSTAMP:20260424T223523
CREATED:20181102T183919Z
LAST-MODIFIED:20181102T183924Z
UID:2319-1542538200-1542542400@dagenhambaptistchurch.com
SUMMARY:Family worship & Communion
DESCRIPTION:Rev Brenda Toft
URL:https://dagenhambaptistchurch.com/event/family-worship-communion-20/
LOCATION:Church Premises\, Dagenham\, United Kingdom
END:VEVENT
BEGIN:VEVENT
DTSTART;TZID=Europe/London:20181114T195000
DTEND;TZID=Europe/London:20181114T210000
DTSTAMP:20260424T223523
CREATED:20181102T184631Z
LAST-MODIFIED:20181102T184637Z
UID:2333-1542225000-1542229200@dagenhambaptistchurch.com
SUMMARY:Bible study
DESCRIPTION:Rev Brenda Toft
URL:https://dagenhambaptistchurch.com/event/bible-study-124/
LOCATION:Church Premises\, Dagenham\, United Kingdom
END:VEVENT
BEGIN:VEVENT
DTSTART;TZID=Europe/London:20181111T183000
DTEND;TZID=Europe/London:20181111T193000
DTSTAMP:20260424T223523
CREATED:20181102T183745Z
LAST-MODIFIED:20181102T183818Z
UID:2317-1541961000-1541964600@dagenhambaptistchurch.com
SUMMARY:Evening service
DESCRIPTION:Rev Brenda Toft
URL:https://dagenhambaptistchurch.com/event/evening-service-117/
LOCATION:Church Premises\, Dagenham\, United Kingdom
END:VEVENT
BEGIN:VEVENT
DTSTART;TZID=Europe/London:20181111T180000
DTEND;TZID=Europe/London:20181111T183000
DTSTAMP:20260424T223523
CREATED:20181102T183651Z
LAST-MODIFIED:20181102T183657Z
UID:2315-1541959200-1541961000@dagenhambaptistchurch.com
SUMMARY:Prayer meeting
DESCRIPTION:Rev Brenda Toft
URL:https://dagenhambaptistchurch.com/event/prayer-meeting-158/
LOCATION:Church Premises\, Dagenham\, United Kingdom
END:VEVENT
BEGIN:VEVENT
DTSTART;TZID=Europe/London:20181111T105000
DTEND;TZID=Europe/London:20181111T120000
DTSTAMP:20260424T223523
CREATED:20181102T183556Z
LAST-MODIFIED:20181102T183605Z
UID:2313-1541933400-1541937600@dagenhambaptistchurch.com
SUMMARY:Remembrance and Enrolment service\, Family worship
DESCRIPTION:Rev Brenda Toft
URL:https://dagenhambaptistchurch.com/event/remembrance-and-enrolment-service-family-worship/
LOCATION:Church Premises\, Dagenham\, United Kingdom
END:VEVENT
BEGIN:VEVENT
DTSTART;TZID=Europe/London:20181107T195000
DTEND;TZID=Europe/London:20181107T210000
DTSTAMP:20260424T223523
CREATED:20181102T184502Z
LAST-MODIFIED:20181102T184536Z
UID:2331-1541620200-1541624400@dagenhambaptistchurch.com
SUMMARY:Bible study
DESCRIPTION:Rev Brenda Toft
URL:https://dagenhambaptistchurch.com/event/bible-study-123/
LOCATION:Church Premises\, Dagenham\, United Kingdom
END:VEVENT
BEGIN:VEVENT
DTSTART;TZID=Europe/London:20181104T183000
DTEND;TZID=Europe/London:20181104T193000
DTSTAMP:20260424T223523
CREATED:20181102T183454Z
LAST-MODIFIED:20181102T183500Z
UID:2311-1541356200-1541359800@dagenhambaptistchurch.com
SUMMARY:Evening service & Communion
DESCRIPTION:Rev Brenda Toft
URL:https://dagenhambaptistchurch.com/event/evening-service-communion-25/
LOCATION:Church Premises\, Dagenham\, United Kingdom
END:VEVENT
BEGIN:VEVENT
DTSTART;TZID=Europe/London:20181104T180000
DTEND;TZID=Europe/London:20181104T183000
DTSTAMP:20260424T223523
CREATED:20181102T183347Z
LAST-MODIFIED:20181102T183402Z
UID:2309-1541354400-1541356200@dagenhambaptistchurch.com
SUMMARY:Prayer meeting
DESCRIPTION:Rev Brenda Toft
URL:https://dagenhambaptistchurch.com/event/prayer-meeting-157/
LOCATION:Church Premises\, Dagenham\, United Kingdom
END:VEVENT
BEGIN:VEVENT
DTSTART;TZID=Europe/London:20181104T120000
DTEND;TZID=Europe/London:20181104T123000
DTSTAMP:20260424T223523
CREATED:20181102T183311Z
LAST-MODIFIED:20181102T183317Z
UID:2307-1541332800-1541334600@dagenhambaptistchurch.com
SUMMARY:Mens Prayer Group
DESCRIPTION:Elvis Uagbor
URL:https://dagenhambaptistchurch.com/event/mens-prayer-group/
LOCATION:Church Premises\, Dagenham\, United Kingdom
END:VEVENT
BEGIN:VEVENT
DTSTART;TZID=Europe/London:20181104T105000
DTEND;TZID=Europe/London:20181104T120000
DTSTAMP:20260424T223523
CREATED:20181102T183217Z
LAST-MODIFIED:20181102T183224Z
UID:2305-1541328600-1541332800@dagenhambaptistchurch.com
SUMMARY:Family worship
DESCRIPTION:Rev Brenda Toft
URL:https://dagenhambaptistchurch.com/event/family-worship-101/
LOCATION:Church Premises\, Dagenham\, United Kingdom
END:VEVENT
BEGIN:VEVENT
DTSTART;TZID=Europe/London:20181028T183000
DTEND;TZID=Europe/London:20181028T193000
DTSTAMP:20260424T223523
CREATED:20180930T210707Z
LAST-MODIFIED:20180930T210712Z
UID:2293-1540751400-1540755000@dagenhambaptistchurch.com
SUMMARY:Evening Service
DESCRIPTION:Rev Brenda Toft
URL:https://dagenhambaptistchurch.com/event/evening-service-116/
LOCATION:Church Premises\, Dagenham\, United Kingdom
END:VEVENT
BEGIN:VEVENT
DTSTART;TZID=Europe/London:20181028T183000
DTEND;TZID=Europe/London:20181028T193000
DTSTAMP:20260424T223523
CREATED:20180930T204843Z
LAST-MODIFIED:20180930T205028Z
UID:2281-1540751400-1540755000@dagenhambaptistchurch.com
SUMMARY:Evening Service
DESCRIPTION:Rev Brenda Toft
URL:https://dagenhambaptistchurch.com/event/family-worship-100/
LOCATION:Church Premises\, Dagenham\, United Kingdom
END:VEVENT
BEGIN:VEVENT
DTSTART;TZID=Europe/London:20181028T180000
DTEND;TZID=Europe/London:20181028T183000
DTSTAMP:20260424T223523
CREATED:20180930T210540Z
LAST-MODIFIED:20180930T210551Z
UID:2291-1540749600-1540751400@dagenhambaptistchurch.com
SUMMARY:Prayer Meeting
DESCRIPTION:Rev Brenda Toft
URL:https://dagenhambaptistchurch.com/event/prayer-meeting-155/
LOCATION:Church Premises\, Dagenham\, United Kingdom
END:VEVENT
BEGIN:VEVENT
DTSTART;TZID=Europe/London:20181021T183000
DTEND;TZID=Europe/London:20181021T193000
DTSTAMP:20260424T223523
CREATED:20180930T205803Z
LAST-MODIFIED:20180930T205809Z
UID:2287-1540146600-1540150200@dagenhambaptistchurch.com
SUMMARY:Evening Service
DESCRIPTION:Rev Stephen McLean
URL:https://dagenhambaptistchurch.com/event/evening-service-115/
LOCATION:Church Premises\, Dagenham\, United Kingdom
END:VEVENT
BEGIN:VEVENT
DTSTART;TZID=Europe/London:20181021T183000
DTEND;TZID=Europe/London:20181021T193000
DTSTAMP:20260424T223523
CREATED:20180930T204509Z
LAST-MODIFIED:20180930T204705Z
UID:2277-1540146600-1540150200@dagenhambaptistchurch.com
SUMMARY:Evening Service
DESCRIPTION:Rev Stephen McLean
URL:https://dagenhambaptistchurch.com/event/family-worship-church-anniversary-services/
LOCATION:Church Premises\, Dagenham\, United Kingdom
END:VEVENT
BEGIN:VEVENT
DTSTART;TZID=Europe/London:20181021T180000
DTEND;TZID=Europe/London:20181021T183000
DTSTAMP:20260424T223523
CREATED:20180930T205924Z
LAST-MODIFIED:20180930T205928Z
UID:2289-1540144800-1540146600@dagenhambaptistchurch.com
SUMMARY:Prayer Meeting
DESCRIPTION:Rev Stephen McLean
URL:https://dagenhambaptistchurch.com/event/prayer-meeting-154/
LOCATION:Church Premises\, Dagenham\, United Kingdom
END:VEVENT
BEGIN:VEVENT
DTSTART;TZID=Europe/London:20181021T105000
DTEND;TZID=Europe/London:20181021T120000
DTSTAMP:20260424T223523
CREATED:20180930T205608Z
LAST-MODIFIED:20180930T205614Z
UID:2285-1540119000-1540123200@dagenhambaptistchurch.com
SUMMARY:Family Worship & Church 91st Anniversary Services
DESCRIPTION:Rev Stephen McLean
URL:https://dagenhambaptistchurch.com/event/family-worship-church-91st-anniversary-services/
LOCATION:Church Premises\, Dagenham\, United Kingdom
END:VEVENT
BEGIN:VEVENT
DTSTART;TZID=Europe/London:20181014T183000
DTEND;TZID=Europe/London:20181014T193000
DTSTAMP:20260424T223523
CREATED:20180930T203312Z
LAST-MODIFIED:20180930T203440Z
UID:2272-1539541800-1539545400@dagenhambaptistchurch.com
SUMMARY:Evening Service
DESCRIPTION:Sandra O’Neall
URL:https://dagenhambaptistchurch.com/event/prayer-meeting-153/
LOCATION:Church Premises\, Dagenham\, United Kingdom
END:VEVENT
BEGIN:VEVENT
DTSTART;TZID=Europe/London:20181014T180000
DTEND;TZID=Europe/London:20181014T183000
DTSTAMP:20260424T223523
CREATED:20180930T211944Z
LAST-MODIFIED:20180930T212036Z
UID:2295-1539540000-1539541800@dagenhambaptistchurch.com
SUMMARY:Prayer Meeting
DESCRIPTION:Sandra O’Neall
URL:https://dagenhambaptistchurch.com/event/prayer-meeting-156/
LOCATION:Church Premises\, Dagenham\, United Kingdom
END:VEVENT
BEGIN:VEVENT
DTSTART;TZID=Europe/London:20181014T105000
DTEND;TZID=Europe/London:20181014T120000
DTSTAMP:20260424T223523
CREATED:20180930T203125Z
LAST-MODIFIED:20180930T203131Z
UID:2270-1539514200-1539518400@dagenhambaptistchurch.com
SUMMARY:Family Worship
DESCRIPTION:Helen and GB
URL:https://dagenhambaptistchurch.com/event/family-worship-98/
LOCATION:Church Premises\, Dagenham\, United Kingdom
END:VEVENT
BEGIN:VEVENT
DTSTART;TZID=Europe/London:20181007T183000
DTEND;TZID=Europe/London:20181007T193000
DTSTAMP:20260424T223523
CREATED:20180930T202505Z
LAST-MODIFIED:20180930T204130Z
UID:2266-1538937000-1538940600@dagenhambaptistchurch.com
SUMMARY:Evening Service
DESCRIPTION:Mike Simpson
URL:https://dagenhambaptistchurch.com/event/evening-service-114/
LOCATION:Church Premises\, Dagenham\, United Kingdom
END:VEVENT
BEGIN:VEVENT
DTSTART;TZID=Europe/London:20181007T105000
DTEND;TZID=Europe/London:20181007T120000
DTSTAMP:20260424T223523
CREATED:20180930T202009Z
LAST-MODIFIED:20180930T204026Z
UID:2261-1538909400-1538913600@dagenhambaptistchurch.com
SUMMARY:Family Worship
DESCRIPTION:Followed By Mens’ Prayer Group Meeting — Led By Elvis Uagbor
URL:https://dagenhambaptistchurch.com/event/family-worship-97/
LOCATION:Church Premises\, Dagenham\, United Kingdom
END:VEVENT
BEGIN:VEVENT
DTSTART;VALUE=DATE:20181007
DTEND;VALUE=DATE:20181008
DTSTAMP:20260424T223523
CREATED:20180930T202241Z
LAST-MODIFIED:20180930T202245Z
UID:2264-1538870400-1538956799@dagenhambaptistchurch.com
SUMMARY:Prayer Meeting
DESCRIPTION:Robert Foster
URL:https://dagenhambaptistchurch.com/event/prayer-meeting-152/
END:VEVENT
BEGIN:VEVENT
DTSTART;TZID=Europe/London:20180930T183000
DTEND;TZID=Europe/London:20180930T193000
DTSTAMP:20260424T223523
CREATED:20180901T223257Z
LAST-MODIFIED:20180901T223303Z
UID:2256-1538332200-1538335800@dagenhambaptistchurch.com
SUMMARY:Evening service
DESCRIPTION:Pastor Brenda Toft
URL:https://dagenhambaptistchurch.com/event/evening-service-113/
LOCATION:Dagenham Baptist Church Hall
END:VEVENT
BEGIN:VEVENT
DTSTART;TZID=Europe/London:20180930T180000
DTEND;TZID=Europe/London:20180930T183000
DTSTAMP:20260424T223523
CREATED:20180901T223125Z
LAST-MODIFIED:20180901T223130Z
UID:2254-1538330400-1538332200@dagenhambaptistchurch.com
SUMMARY:Prayer meeting
DESCRIPTION:Pastor Brenda Toft
URL:https://dagenhambaptistchurch.com/event/prayer-meeting-151/
LOCATION:Dagenham Baptist Church Hall
END:VEVENT
BEGIN:VEVENT
DTSTART;TZID=Europe/London:20180930T105000
DTEND;TZID=Europe/London:20180930T120000
DTSTAMP:20260424T223523
CREATED:20180901T223035Z
LAST-MODIFIED:20180901T223039Z
UID:2252-1538304600-1538308800@dagenhambaptistchurch.com
SUMMARY:Family worship
DESCRIPTION:Pastor Brenda Toft
URL:https://dagenhambaptistchurch.com/event/family-worship-96/
LOCATION:Dagenham Baptist Church Hall
END:VEVENT
END:VCALENDAR