BEGIN:VCALENDAR
VERSION:2.0
PRODID:-//DBC - ECPv6.15.20//NONSGML v1.0//EN
CALSCALE:GREGORIAN
METHOD:PUBLISH
X-ORIGINAL-URL:https://dagenhambaptistchurch.com
X-WR-CALDESC:Events for DBC
REFRESH-INTERVAL;VALUE=DURATION:PT1H
X-Robots-Tag:noindex
X-PUBLISHED-TTL:PT1H
BEGIN:VTIMEZONE
TZID:Europe/London
BEGIN:DAYLIGHT
TZOFFSETFROM:+0000
TZOFFSETTO:+0100
TZNAME:BST
DTSTART:20170326T010000
END:DAYLIGHT
BEGIN:STANDARD
TZOFFSETFROM:+0100
TZOFFSETTO:+0000
TZNAME:GMT
DTSTART:20171029T010000
END:STANDARD
BEGIN:DAYLIGHT
TZOFFSETFROM:+0000
TZOFFSETTO:+0100
TZNAME:BST
DTSTART:20180325T010000
END:DAYLIGHT
BEGIN:STANDARD
TZOFFSETFROM:+0100
TZOFFSETTO:+0000
TZNAME:GMT
DTSTART:20181028T010000
END:STANDARD
BEGIN:DAYLIGHT
TZOFFSETFROM:+0000
TZOFFSETTO:+0100
TZNAME:BST
DTSTART:20190331T010000
END:DAYLIGHT
BEGIN:STANDARD
TZOFFSETFROM:+0100
TZOFFSETTO:+0000
TZNAME:GMT
DTSTART:20191027T010000
END:STANDARD
END:VTIMEZONE
BEGIN:VEVENT
DTSTART;TZID=Europe/London:20181021T105000
DTEND;TZID=Europe/London:20181021T120000
DTSTAMP:20260425T013940
CREATED:20180930T205608Z
LAST-MODIFIED:20180930T205614Z
UID:2285-1540119000-1540123200@dagenhambaptistchurch.com
SUMMARY:Family Worship & Church 91st Anniversary Services
DESCRIPTION:Rev Stephen McLean
URL:https://dagenhambaptistchurch.com/event/family-worship-church-91st-anniversary-services/
LOCATION:Church Premises\, Dagenham\, United Kingdom
END:VEVENT
BEGIN:VEVENT
DTSTART;TZID=Europe/London:20181014T183000
DTEND;TZID=Europe/London:20181014T193000
DTSTAMP:20260425T013940
CREATED:20180930T203312Z
LAST-MODIFIED:20180930T203440Z
UID:2272-1539541800-1539545400@dagenhambaptistchurch.com
SUMMARY:Evening Service
DESCRIPTION:Sandra O’Neall
URL:https://dagenhambaptistchurch.com/event/prayer-meeting-153/
LOCATION:Church Premises\, Dagenham\, United Kingdom
END:VEVENT
BEGIN:VEVENT
DTSTART;TZID=Europe/London:20181014T180000
DTEND;TZID=Europe/London:20181014T183000
DTSTAMP:20260425T013940
CREATED:20180930T211944Z
LAST-MODIFIED:20180930T212036Z
UID:2295-1539540000-1539541800@dagenhambaptistchurch.com
SUMMARY:Prayer Meeting
DESCRIPTION:Sandra O’Neall
URL:https://dagenhambaptistchurch.com/event/prayer-meeting-156/
LOCATION:Church Premises\, Dagenham\, United Kingdom
END:VEVENT
BEGIN:VEVENT
DTSTART;TZID=Europe/London:20181014T105000
DTEND;TZID=Europe/London:20181014T120000
DTSTAMP:20260425T013940
CREATED:20180930T203125Z
LAST-MODIFIED:20180930T203131Z
UID:2270-1539514200-1539518400@dagenhambaptistchurch.com
SUMMARY:Family Worship
DESCRIPTION:Helen and GB
URL:https://dagenhambaptistchurch.com/event/family-worship-98/
LOCATION:Church Premises\, Dagenham\, United Kingdom
END:VEVENT
BEGIN:VEVENT
DTSTART;TZID=Europe/London:20181007T183000
DTEND;TZID=Europe/London:20181007T193000
DTSTAMP:20260425T013940
CREATED:20180930T202505Z
LAST-MODIFIED:20180930T204130Z
UID:2266-1538937000-1538940600@dagenhambaptistchurch.com
SUMMARY:Evening Service
DESCRIPTION:Mike Simpson
URL:https://dagenhambaptistchurch.com/event/evening-service-114/
LOCATION:Church Premises\, Dagenham\, United Kingdom
END:VEVENT
BEGIN:VEVENT
DTSTART;TZID=Europe/London:20181007T105000
DTEND;TZID=Europe/London:20181007T120000
DTSTAMP:20260425T013940
CREATED:20180930T202009Z
LAST-MODIFIED:20180930T204026Z
UID:2261-1538909400-1538913600@dagenhambaptistchurch.com
SUMMARY:Family Worship
DESCRIPTION:Followed By Mens’ Prayer Group Meeting — Led By Elvis Uagbor
URL:https://dagenhambaptistchurch.com/event/family-worship-97/
LOCATION:Church Premises\, Dagenham\, United Kingdom
END:VEVENT
BEGIN:VEVENT
DTSTART;VALUE=DATE:20181007
DTEND;VALUE=DATE:20181008
DTSTAMP:20260425T013940
CREATED:20180930T202241Z
LAST-MODIFIED:20180930T202245Z
UID:2264-1538870400-1538956799@dagenhambaptistchurch.com
SUMMARY:Prayer Meeting
DESCRIPTION:Robert Foster
URL:https://dagenhambaptistchurch.com/event/prayer-meeting-152/
END:VEVENT
BEGIN:VEVENT
DTSTART;TZID=Europe/London:20180930T183000
DTEND;TZID=Europe/London:20180930T193000
DTSTAMP:20260425T013940
CREATED:20180901T223257Z
LAST-MODIFIED:20180901T223303Z
UID:2256-1538332200-1538335800@dagenhambaptistchurch.com
SUMMARY:Evening service
DESCRIPTION:Pastor Brenda Toft
URL:https://dagenhambaptistchurch.com/event/evening-service-113/
LOCATION:Dagenham Baptist Church Hall
END:VEVENT
BEGIN:VEVENT
DTSTART;TZID=Europe/London:20180930T180000
DTEND;TZID=Europe/London:20180930T183000
DTSTAMP:20260425T013940
CREATED:20180901T223125Z
LAST-MODIFIED:20180901T223130Z
UID:2254-1538330400-1538332200@dagenhambaptistchurch.com
SUMMARY:Prayer meeting
DESCRIPTION:Pastor Brenda Toft
URL:https://dagenhambaptistchurch.com/event/prayer-meeting-151/
LOCATION:Dagenham Baptist Church Hall
END:VEVENT
BEGIN:VEVENT
DTSTART;TZID=Europe/London:20180930T105000
DTEND;TZID=Europe/London:20180930T120000
DTSTAMP:20260425T013940
CREATED:20180901T223035Z
LAST-MODIFIED:20180901T223039Z
UID:2252-1538304600-1538308800@dagenhambaptistchurch.com
SUMMARY:Family worship
DESCRIPTION:Pastor Brenda Toft
URL:https://dagenhambaptistchurch.com/event/family-worship-96/
LOCATION:Dagenham Baptist Church Hall
END:VEVENT
BEGIN:VEVENT
DTSTART;TZID=Europe/London:20180930T080000
DTEND;TZID=Europe/London:20180930T170000
DTSTAMP:20260425T013940
CREATED:20180930T203641Z
LAST-MODIFIED:20180930T203646Z
UID:2275-1538294400-1538326800@dagenhambaptistchurch.com
SUMMARY:Family Worship
DESCRIPTION:91st 
URL:https://dagenhambaptistchurch.com/event/family-worship-99/
END:VEVENT
BEGIN:VEVENT
DTSTART;TZID=Europe/London:20180926T195000
DTEND;TZID=Europe/London:20180926T210000
DTSTAMP:20260425T013940
CREATED:20180901T222952Z
LAST-MODIFIED:20180901T222959Z
UID:2250-1537991400-1537995600@dagenhambaptistchurch.com
SUMMARY:Bible study
DESCRIPTION:Pastor Brenda Toft
URL:https://dagenhambaptistchurch.com/event/bible-study-122/
LOCATION:Dagenham Baptist Church Hall
END:VEVENT
BEGIN:VEVENT
DTSTART;TZID=Europe/London:20180923T183000
DTEND;TZID=Europe/London:20180923T193000
DTSTAMP:20260425T013940
CREATED:20180901T222903Z
LAST-MODIFIED:20180901T222907Z
UID:2248-1537727400-1537731000@dagenhambaptistchurch.com
SUMMARY:Evening service
DESCRIPTION:Pastor Brenda Toft
URL:https://dagenhambaptistchurch.com/event/evening-service-112/
LOCATION:Dagenham Baptist Church Hall
END:VEVENT
BEGIN:VEVENT
DTSTART;TZID=Europe/London:20180923T180000
DTEND;TZID=Europe/London:20180923T183000
DTSTAMP:20260425T013940
CREATED:20180901T222803Z
LAST-MODIFIED:20180901T222809Z
UID:2246-1537725600-1537727400@dagenhambaptistchurch.com
SUMMARY:Prayer meeting
DESCRIPTION:Pastor Brenda Toft
URL:https://dagenhambaptistchurch.com/event/prayer-meeting-150/
LOCATION:Dagenham Baptist Church Hall
END:VEVENT
BEGIN:VEVENT
DTSTART;TZID=Europe/London:20180923T105000
DTEND;TZID=Europe/London:20180923T120000
DTSTAMP:20260425T013940
CREATED:20180901T222659Z
LAST-MODIFIED:20180901T222710Z
UID:2244-1537699800-1537704000@dagenhambaptistchurch.com
SUMMARY:Family worship
DESCRIPTION:Pastor Brenda Toft
URL:https://dagenhambaptistchurch.com/event/family-worship-95/
LOCATION:Dagenham Baptist Church Hall
END:VEVENT
BEGIN:VEVENT
DTSTART;TZID=Europe/London:20180919T195000
DTEND;TZID=Europe/London:20180919T210000
DTSTAMP:20260425T013940
CREATED:20180901T222604Z
LAST-MODIFIED:20180901T222609Z
UID:2242-1537386600-1537390800@dagenhambaptistchurch.com
SUMMARY:Bible study
DESCRIPTION:Pastor Brenda Toft
URL:https://dagenhambaptistchurch.com/event/bible-study-121/
LOCATION:Dagenham Baptist Church Hall
END:VEVENT
BEGIN:VEVENT
DTSTART;TZID=Europe/London:20180916T183000
DTEND;TZID=Europe/London:20180916T193000
DTSTAMP:20260425T013940
CREATED:20180901T222226Z
LAST-MODIFIED:20180901T222230Z
UID:2237-1537122600-1537126200@dagenhambaptistchurch.com
SUMMARY:Evening service
DESCRIPTION:Pastor Brenda Toft
URL:https://dagenhambaptistchurch.com/event/evening-service-111/
LOCATION:Dagenham Baptist Church Hall
END:VEVENT
BEGIN:VEVENT
DTSTART;TZID=Europe/London:20180916T180000
DTEND;TZID=Europe/London:20180916T183000
DTSTAMP:20260425T013940
CREATED:20180901T222141Z
LAST-MODIFIED:20180901T222145Z
UID:2235-1537120800-1537122600@dagenhambaptistchurch.com
SUMMARY:Prayer meeting
DESCRIPTION:Pastor Brenda Toft
URL:https://dagenhambaptistchurch.com/event/prayer-meeting-149/
LOCATION:Dagenham Baptist Church Hall
END:VEVENT
BEGIN:VEVENT
DTSTART;TZID=Europe/London:20180916T105000
DTEND;TZID=Europe/London:20180916T120000
DTSTAMP:20260425T013940
CREATED:20180901T222030Z
LAST-MODIFIED:20180901T222035Z
UID:2233-1537095000-1537099200@dagenhambaptistchurch.com
SUMMARY:Family worship & Communion
DESCRIPTION:Pastor Brenda Toft
URL:https://dagenhambaptistchurch.com/event/family-worship-communion-19/
LOCATION:Dagenham Baptist Church Hall
END:VEVENT
BEGIN:VEVENT
DTSTART;TZID=Europe/London:20180912T195000
DTEND;TZID=Europe/London:20180912T210000
DTSTAMP:20260425T013940
CREATED:20180901T215218Z
LAST-MODIFIED:20180901T215224Z
UID:2231-1536781800-1536786000@dagenhambaptistchurch.com
SUMMARY:Bible study
DESCRIPTION:Pastor Brenda Toft
URL:https://dagenhambaptistchurch.com/event/bible-study-120/
LOCATION:Dagenham Baptist Church Hall
END:VEVENT
BEGIN:VEVENT
DTSTART;VALUE=DATE:20180911
DTEND;VALUE=DATE:20180912
DTSTAMP:20260425T013940
CREATED:20180901T223437Z
LAST-MODIFIED:20180901T223442Z
UID:2258-1536624000-1536710399@dagenhambaptistchurch.com
SUMMARY:Harvest Thanksgiving
DESCRIPTION:
URL:https://dagenhambaptistchurch.com/event/harvest-thanksgiving/
END:VEVENT
BEGIN:VEVENT
DTSTART;TZID=Europe/London:20180909T183000
DTEND;TZID=Europe/London:20180909T193000
DTSTAMP:20260425T013940
CREATED:20180901T215127Z
LAST-MODIFIED:20180901T215132Z
UID:2229-1536517800-1536521400@dagenhambaptistchurch.com
SUMMARY:Evening service
DESCRIPTION:Pastor Brenda Toft
URL:https://dagenhambaptistchurch.com/event/evening-service-110/
LOCATION:Dagenham Baptist Church Hall
END:VEVENT
BEGIN:VEVENT
DTSTART;TZID=Europe/London:20180909T180000
DTEND;TZID=Europe/London:20180909T183000
DTSTAMP:20260425T013940
CREATED:20180901T215045Z
LAST-MODIFIED:20180901T215050Z
UID:2227-1536516000-1536517800@dagenhambaptistchurch.com
SUMMARY:Prayer meeting
DESCRIPTION:Pastor Brenda Toft
URL:https://dagenhambaptistchurch.com/event/prayer-meeting-148/
LOCATION:Dagenham Baptist Church Hall
END:VEVENT
BEGIN:VEVENT
DTSTART;TZID=Europe/London:20180909T105000
DTEND;TZID=Europe/London:20180909T120000
DTSTAMP:20260425T013940
CREATED:20180901T214944Z
LAST-MODIFIED:20180901T214950Z
UID:2225-1536490200-1536494400@dagenhambaptistchurch.com
SUMMARY:Family worship & Parade
DESCRIPTION:Pastor Brenda Toft
URL:https://dagenhambaptistchurch.com/event/family-worship-parade-22/
LOCATION:Dagenham Baptist Church Hall
END:VEVENT
BEGIN:VEVENT
DTSTART;TZID=Europe/London:20180905T195000
DTEND;TZID=Europe/London:20180905T210000
DTSTAMP:20260425T013940
CREATED:20180901T214850Z
LAST-MODIFIED:20180901T214855Z
UID:2223-1536177000-1536181200@dagenhambaptistchurch.com
SUMMARY:Bible study
DESCRIPTION:Pastor Brenda Toft
URL:https://dagenhambaptistchurch.com/event/bible-study-119/
LOCATION:Dagenham Baptist Church Hall
END:VEVENT
BEGIN:VEVENT
DTSTART;TZID=Europe/London:20180902T183000
DTEND;TZID=Europe/London:20180902T193000
DTSTAMP:20260425T013940
CREATED:20180901T212102Z
LAST-MODIFIED:20180901T212246Z
UID:2219-1535913000-1535916600@dagenhambaptistchurch.com
SUMMARY:Evening service & Communion
DESCRIPTION:Pastor Brenda Toft
URL:https://dagenhambaptistchurch.com/event/evening-service-communion-24/
LOCATION:Dagenham Baptist Church Hall
END:VEVENT
BEGIN:VEVENT
DTSTART;TZID=Europe/London:20180902T180000
DTEND;TZID=Europe/London:20180902T183000
DTSTAMP:20260425T013940
CREATED:20180901T211848Z
LAST-MODIFIED:20180901T211852Z
UID:2216-1535911200-1535913000@dagenhambaptistchurch.com
SUMMARY:Prayer meeting
DESCRIPTION:Pastor Brenda Toft
URL:https://dagenhambaptistchurch.com/event/prayer-meeting-147/
LOCATION:Dagenham Baptist Church Hall
END:VEVENT
BEGIN:VEVENT
DTSTART;TZID=Europe/London:20180902T105000
DTEND;TZID=Europe/London:20180902T120000
DTSTAMP:20260425T013940
CREATED:20180901T195403Z
LAST-MODIFIED:20180901T195413Z
UID:2214-1535885400-1535889600@dagenhambaptistchurch.com
SUMMARY:Family worship
DESCRIPTION:Pastor Brenda Toft
URL:https://dagenhambaptistchurch.com/event/family-worship-94/
LOCATION:Dagenham Baptist Church Hall
END:VEVENT
BEGIN:VEVENT
DTSTART;TZID=Europe/London:20180829T195000
DTEND;TZID=Europe/London:20180829T210000
DTSTAMP:20260425T013940
CREATED:20180731T143212Z
LAST-MODIFIED:20180731T143217Z
UID:2209-1535572200-1535576400@dagenhambaptistchurch.com
SUMMARY:Bible study
DESCRIPTION:Pastor Brenda Toft
URL:https://dagenhambaptistchurch.com/event/bible-study-118/
LOCATION:Church Premises\, Dagenham\, United Kingdom
END:VEVENT
BEGIN:VEVENT
DTSTART;TZID=Europe/London:20180826T183000
DTEND;TZID=Europe/London:20180826T193000
DTSTAMP:20260425T013940
CREATED:20180731T142731Z
LAST-MODIFIED:20180731T142736Z
UID:2199-1535308200-1535311800@dagenhambaptistchurch.com
SUMMARY:Evening service
DESCRIPTION:Pastor Brenda Toft
URL:https://dagenhambaptistchurch.com/event/evening-service-109/
LOCATION:Church Premises\, Dagenham\, United Kingdom
END:VEVENT
END:VCALENDAR