BEGIN:VCALENDAR
VERSION:2.0
PRODID:-//DBC - ECPv6.15.20//NONSGML v1.0//EN
CALSCALE:GREGORIAN
METHOD:PUBLISH
X-ORIGINAL-URL:https://dagenhambaptistchurch.com
X-WR-CALDESC:Events for DBC
REFRESH-INTERVAL;VALUE=DURATION:PT1H
X-Robots-Tag:noindex
X-PUBLISHED-TTL:PT1H
BEGIN:VTIMEZONE
TZID:Europe/London
BEGIN:DAYLIGHT
TZOFFSETFROM:+0000
TZOFFSETTO:+0100
TZNAME:BST
DTSTART:20180325T010000
END:DAYLIGHT
BEGIN:STANDARD
TZOFFSETFROM:+0100
TZOFFSETTO:+0000
TZNAME:GMT
DTSTART:20181028T010000
END:STANDARD
BEGIN:DAYLIGHT
TZOFFSETFROM:+0000
TZOFFSETTO:+0100
TZNAME:BST
DTSTART:20190331T010000
END:DAYLIGHT
BEGIN:STANDARD
TZOFFSETFROM:+0100
TZOFFSETTO:+0000
TZNAME:GMT
DTSTART:20191027T010000
END:STANDARD
BEGIN:DAYLIGHT
TZOFFSETFROM:+0000
TZOFFSETTO:+0100
TZNAME:BST
DTSTART:20200329T010000
END:DAYLIGHT
BEGIN:STANDARD
TZOFFSETFROM:+0100
TZOFFSETTO:+0000
TZNAME:GMT
DTSTART:20201025T010000
END:STANDARD
END:VTIMEZONE
BEGIN:VEVENT
DTSTART;TZID=Europe/London:20191127T195000
DTEND;TZID=Europe/London:20191127T210000
DTSTAMP:20260423T205143
CREATED:20191104T192529Z
LAST-MODIFIED:20191104T192722Z
UID:2855-1574884200-1574888400@dagenhambaptistchurch.com
SUMMARY:Bible study
DESCRIPTION:Rev Brenda Toft
URL:https://dagenhambaptistchurch.com/event/bible-study-156/
LOCATION:Church Premises\, Dagenham\, United Kingdom
END:VEVENT
BEGIN:VEVENT
DTSTART;TZID=Europe/London:20191124T183000
DTEND;TZID=Europe/London:20191124T193000
DTSTAMP:20260423T205143
CREATED:20191104T192147Z
LAST-MODIFIED:20191104T192154Z
UID:2847-1574620200-1574623800@dagenhambaptistchurch.com
SUMMARY:Evening service
DESCRIPTION:Rev Brenda Toft
URL:https://dagenhambaptistchurch.com/event/evening-service-153/
END:VEVENT
BEGIN:VEVENT
DTSTART;TZID=Europe/London:20191124T180000
DTEND;TZID=Europe/London:20191124T183000
DTSTAMP:20260423T205143
CREATED:20191104T192037Z
LAST-MODIFIED:20191104T192111Z
UID:2845-1574618400-1574620200@dagenhambaptistchurch.com
SUMMARY:Prayer meeting
DESCRIPTION:Rev Brenda Toft
URL:https://dagenhambaptistchurch.com/event/prayer-meeting-201/
LOCATION:Church Premises\, Dagenham\, United Kingdom
END:VEVENT
BEGIN:VEVENT
DTSTART;TZID=Europe/London:20191124T105000
DTEND;TZID=Europe/London:20191124T120000
DTSTAMP:20260423T205143
CREATED:20191104T191949Z
LAST-MODIFIED:20191104T191958Z
UID:2843-1574592600-1574596800@dagenhambaptistchurch.com
SUMMARY:Family worship
DESCRIPTION:Rev Brenda Toft
URL:https://dagenhambaptistchurch.com/event/family-worship-124/
LOCATION:Church Premises\, Dagenham\, United Kingdom
END:VEVENT
BEGIN:VEVENT
DTSTART;TZID=Europe/London:20191120T195000
DTEND;TZID=Europe/London:20191120T210000
DTSTAMP:20260423T205143
CREATED:20191104T192414Z
LAST-MODIFIED:20191104T192422Z
UID:2853-1574279400-1574283600@dagenhambaptistchurch.com
SUMMARY:Bible study
DESCRIPTION:Rev Brenda Toft
URL:https://dagenhambaptistchurch.com/event/bible-study-155/
LOCATION:Church Premises\, Dagenham\, United Kingdom
END:VEVENT
BEGIN:VEVENT
DTSTART;TZID=Europe/London:20191117T183000
DTEND;TZID=Europe/London:20191117T193000
DTSTAMP:20260423T205143
CREATED:20191104T191847Z
LAST-MODIFIED:20191104T191855Z
UID:2841-1574015400-1574019000@dagenhambaptistchurch.com
SUMMARY:Evening service
DESCRIPTION:Rev Brenda Toft
URL:https://dagenhambaptistchurch.com/event/evening-service-152/
LOCATION:Church Premises\, Dagenham\, United Kingdom
END:VEVENT
BEGIN:VEVENT
DTSTART;TZID=Europe/London:20191117T180000
DTEND;TZID=Europe/London:20191117T183000
DTSTAMP:20260423T205143
CREATED:20191104T191732Z
LAST-MODIFIED:20191104T191754Z
UID:2839-1574013600-1574015400@dagenhambaptistchurch.com
SUMMARY:Prayer meeting
DESCRIPTION:Rev Brenda Toft
URL:https://dagenhambaptistchurch.com/event/prayer-meeting-200/
LOCATION:Church Premises\, Dagenham\, United Kingdom
END:VEVENT
BEGIN:VEVENT
DTSTART;TZID=Europe/London:20191117T105000
DTEND;TZID=Europe/London:20191117T120000
DTSTAMP:20260423T205143
CREATED:20191104T191646Z
LAST-MODIFIED:20191104T191653Z
UID:2837-1573987800-1573992000@dagenhambaptistchurch.com
SUMMARY:Family worship & Communion
DESCRIPTION:Rev Brenda Toft
URL:https://dagenhambaptistchurch.com/event/family-worship-communion-23/
LOCATION:Church Premises\, Dagenham\, United Kingdom
END:VEVENT
BEGIN:VEVENT
DTSTART;TZID=Europe/London:20191113T195000
DTEND;TZID=Europe/London:20191113T210000
DTSTAMP:20260423T205143
CREATED:20191104T192317Z
LAST-MODIFIED:20191104T192324Z
UID:2851-1573674600-1573678800@dagenhambaptistchurch.com
SUMMARY:Bible study
DESCRIPTION:Rev Brenda Toft
URL:https://dagenhambaptistchurch.com/event/bible-study-154/
LOCATION:Church Premises\, Dagenham\, United Kingdom
END:VEVENT
BEGIN:VEVENT
DTSTART;TZID=Europe/London:20191110T183000
DTEND;TZID=Europe/London:20191110T193000
DTSTAMP:20260423T205143
CREATED:20191104T191539Z
LAST-MODIFIED:20191104T191547Z
UID:2835-1573410600-1573414200@dagenhambaptistchurch.com
SUMMARY:Evening service
DESCRIPTION:Rev Brenda Toft
URL:https://dagenhambaptistchurch.com/event/evening-service-151/
LOCATION:Church Premises\, Dagenham\, United Kingdom
END:VEVENT
BEGIN:VEVENT
DTSTART;TZID=Europe/London:20191110T180000
DTEND;TZID=Europe/London:20191110T183000
DTSTAMP:20260423T205143
CREATED:20191104T191448Z
LAST-MODIFIED:20191104T191456Z
UID:2833-1573408800-1573410600@dagenhambaptistchurch.com
SUMMARY:Prayer meeting
DESCRIPTION:Rev Brenda Toft
URL:https://dagenhambaptistchurch.com/event/prayer-meeting-199/
LOCATION:Church Premises\, Dagenham\, United Kingdom
END:VEVENT
BEGIN:VEVENT
DTSTART;TZID=Europe/London:20191110T105000
DTEND;TZID=Europe/London:20191110T120000
DTSTAMP:20260423T205143
CREATED:20191104T190729Z
LAST-MODIFIED:20191104T190736Z
UID:2830-1573383000-1573387200@dagenhambaptistchurch.com
SUMMARY:Remembrance Day Family Worship Parade & enrolment
DESCRIPTION:Rev Brenda Toft
URL:https://dagenhambaptistchurch.com/event/remembrance-day-family-worship-parade-enrolment-2/
LOCATION:Church Premises\, Dagenham\, United Kingdom
END:VEVENT
BEGIN:VEVENT
DTSTART;TZID=Europe/London:20191106T195000
DTEND;TZID=Europe/London:20191106T210000
DTSTAMP:20260423T205143
CREATED:20191104T192233Z
LAST-MODIFIED:20191104T192241Z
UID:2849-1573069800-1573074000@dagenhambaptistchurch.com
SUMMARY:Bible study
DESCRIPTION:Rev Brenda Toft
URL:https://dagenhambaptistchurch.com/event/bible-study-153/
LOCATION:Church Premises\, Dagenham\, United Kingdom
END:VEVENT
BEGIN:VEVENT
DTSTART;TZID=Europe/London:20191030T195000
DTEND;TZID=Europe/London:20191030T210000
DTSTAMP:20260423T205143
CREATED:20191003T195403Z
LAST-MODIFIED:20191003T195407Z
UID:2827-1572465000-1572469200@dagenhambaptistchurch.com
SUMMARY:Bible study
DESCRIPTION:Pastor Brenda Toft
URL:https://dagenhambaptistchurch.com/event/bible-study-152/
LOCATION:Church Premises\, Dagenham\, United Kingdom
END:VEVENT
BEGIN:VEVENT
DTSTART;TZID=Europe/London:20191027T183000
DTEND;TZID=Europe/London:20191027T193000
DTSTAMP:20260423T205143
CREATED:20191003T194912Z
LAST-MODIFIED:20191003T194915Z
UID:2819-1572201000-1572204600@dagenhambaptistchurch.com
SUMMARY:Evening service
DESCRIPTION:Pastor Brenda Toft
URL:https://dagenhambaptistchurch.com/event/evening-service-150/
LOCATION:Church Premises\, Dagenham\, United Kingdom
END:VEVENT
BEGIN:VEVENT
DTSTART;TZID=Europe/London:20191027T180000
DTEND;TZID=Europe/London:20191027T183000
DTSTAMP:20260423T205143
CREATED:20191003T194757Z
LAST-MODIFIED:20191003T194801Z
UID:2817-1572199200-1572201000@dagenhambaptistchurch.com
SUMMARY:Prayer meeting
DESCRIPTION:Pastor Brenda Toft
URL:https://dagenhambaptistchurch.com/event/prayer-meeting-198/
LOCATION:Church Premises\, Dagenham\, United Kingdom
END:VEVENT
BEGIN:VEVENT
DTSTART;TZID=Europe/London:20191027T105000
DTEND;TZID=Europe/London:20191027T120000
DTSTAMP:20260423T205143
CREATED:20191003T194732Z
LAST-MODIFIED:20191003T194735Z
UID:2815-1572173400-1572177600@dagenhambaptistchurch.com
SUMMARY:Family worship
DESCRIPTION:Pastor Brenda Toft
URL:https://dagenhambaptistchurch.com/event/family-worship-123/
LOCATION:Church Premises\, Dagenham\, United Kingdom
END:VEVENT
BEGIN:VEVENT
DTSTART;TZID=Europe/London:20191023T195000
DTEND;TZID=Europe/London:20191023T210000
DTSTAMP:20260423T205143
CREATED:20191003T195319Z
LAST-MODIFIED:20191003T195322Z
UID:2825-1571860200-1571864400@dagenhambaptistchurch.com
SUMMARY:Bible study
DESCRIPTION:Pastor Brenda Toft
URL:https://dagenhambaptistchurch.com/event/bible-study-151/
LOCATION:Church Premises\, Dagenham\, United Kingdom
END:VEVENT
BEGIN:VEVENT
DTSTART;TZID=Europe/London:20191020T183000
DTEND;TZID=Europe/London:20191020T193000
DTSTAMP:20260423T205143
CREATED:20191003T194630Z
LAST-MODIFIED:20191003T194633Z
UID:2813-1571596200-1571599800@dagenhambaptistchurch.com
SUMMARY:Evening service
DESCRIPTION:Pastor Brenda Toft
URL:https://dagenhambaptistchurch.com/event/evening-service-149/
LOCATION:Church Premises\, Dagenham\, United Kingdom
END:VEVENT
BEGIN:VEVENT
DTSTART;TZID=Europe/London:20191020T180000
DTEND;TZID=Europe/London:20191020T183000
DTSTAMP:20260423T205143
CREATED:20191003T194606Z
LAST-MODIFIED:20191003T194609Z
UID:2811-1571594400-1571596200@dagenhambaptistchurch.com
SUMMARY:Prayer meeting
DESCRIPTION:Pastor Brenda Toft
URL:https://dagenhambaptistchurch.com/event/prayer-meeting-197/
LOCATION:Church Premises\, Dagenham\, United Kingdom
END:VEVENT
BEGIN:VEVENT
DTSTART;TZID=Europe/London:20191020T105000
DTEND;TZID=Europe/London:20191020T120000
DTSTAMP:20260423T205143
CREATED:20191003T194531Z
LAST-MODIFIED:20191003T194535Z
UID:2809-1571568600-1571572800@dagenhambaptistchurch.com
SUMMARY:Family worship and communion
DESCRIPTION:Pastor Brenda Toft
URL:https://dagenhambaptistchurch.com/event/family-worship-and-communion-6/
LOCATION:Church Premises\, Dagenham\, United Kingdom
END:VEVENT
BEGIN:VEVENT
DTSTART;TZID=Europe/London:20191016T195000
DTEND;TZID=Europe/London:20191016T210000
DTSTAMP:20260423T205143
CREATED:20191003T195234Z
LAST-MODIFIED:20191003T195240Z
UID:2823-1571255400-1571259600@dagenhambaptistchurch.com
SUMMARY:Bible study
DESCRIPTION:Pastor Brenda Toft
URL:https://dagenhambaptistchurch.com/event/bible-study-150/
LOCATION:Church Premises\, Dagenham\, United Kingdom
END:VEVENT
BEGIN:VEVENT
DTSTART;TZID=Europe/London:20191013T183000
DTEND;TZID=Europe/London:20191013T193000
DTSTAMP:20260423T205143
CREATED:20191003T194452Z
LAST-MODIFIED:20191003T194456Z
UID:2807-1570991400-1570995000@dagenhambaptistchurch.com
SUMMARY:Evening service
DESCRIPTION:Pastor Brenda Toft
URL:https://dagenhambaptistchurch.com/event/evening-service-148/
LOCATION:Church Premises\, Dagenham\, United Kingdom
END:VEVENT
BEGIN:VEVENT
DTSTART;TZID=Europe/London:20191013T180000
DTEND;TZID=Europe/London:20191013T183000
DTSTAMP:20260423T205143
CREATED:20191003T194426Z
LAST-MODIFIED:20191003T194430Z
UID:2805-1570989600-1570991400@dagenhambaptistchurch.com
SUMMARY:Prayer meeting
DESCRIPTION:Pastor Brenda Toft
URL:https://dagenhambaptistchurch.com/event/prayer-meeting-196/
LOCATION:Church Premises\, Dagenham\, United Kingdom
END:VEVENT
BEGIN:VEVENT
DTSTART;TZID=Europe/London:20191013T105000
DTEND;TZID=Europe/London:20191013T120000
DTSTAMP:20260423T205143
CREATED:20191003T194355Z
LAST-MODIFIED:20191003T194358Z
UID:2803-1570963800-1570968000@dagenhambaptistchurch.com
SUMMARY:Family worship and Parade
DESCRIPTION:Pastor Brenda Toft
URL:https://dagenhambaptistchurch.com/event/family-worship-and-parade-4/
LOCATION:Church Premises\, Dagenham\, United Kingdom
END:VEVENT
BEGIN:VEVENT
DTSTART;TZID=Europe/London:20191009T075000
DTEND;TZID=Europe/London:20191009T210000
DTSTAMP:20260423T205143
CREATED:20191003T195122Z
LAST-MODIFIED:20191003T195126Z
UID:2821-1570607400-1570654800@dagenhambaptistchurch.com
SUMMARY:Bible study
DESCRIPTION:Pastor Brenda Toft
URL:https://dagenhambaptistchurch.com/event/bible-study-149/
LOCATION:Church Premises\, Dagenham\, United Kingdom
END:VEVENT
BEGIN:VEVENT
DTSTART;TZID=Europe/London:20191006T183000
DTEND;TZID=Europe/London:20191006T193000
DTSTAMP:20260423T205143
CREATED:20191003T194325Z
LAST-MODIFIED:20191003T194329Z
UID:2801-1570386600-1570390200@dagenhambaptistchurch.com
SUMMARY:Evening service
DESCRIPTION:Pastor Brenda Toft
URL:https://dagenhambaptistchurch.com/event/evening-service-147/
LOCATION:Church Premises\, Dagenham\, United Kingdom
END:VEVENT
BEGIN:VEVENT
DTSTART;TZID=Europe/London:20191006T180000
DTEND;TZID=Europe/London:20191006T183000
DTSTAMP:20260423T205143
CREATED:20191003T194303Z
LAST-MODIFIED:20191003T194306Z
UID:2799-1570384800-1570386600@dagenhambaptistchurch.com
SUMMARY:Prayer meeting
DESCRIPTION:Pastor Brenda Toft
URL:https://dagenhambaptistchurch.com/event/prayer-meeting-195/
LOCATION:Church Premises\, Dagenham\, United Kingdom
END:VEVENT
BEGIN:VEVENT
DTSTART;TZID=Europe/London:20191006T105000
DTEND;TZID=Europe/London:20191006T120000
DTSTAMP:20260423T205143
CREATED:20191003T194238Z
LAST-MODIFIED:20191003T194241Z
UID:2797-1570359000-1570363200@dagenhambaptistchurch.com
SUMMARY:Family worship
DESCRIPTION:Pastor Brenda Toft
URL:https://dagenhambaptistchurch.com/event/family-worship-122/
LOCATION:Church Premises\, Dagenham\, United Kingdom
END:VEVENT
BEGIN:VEVENT
DTSTART;TZID=Europe/London:20190929T183000
DTEND;TZID=Europe/London:20190929T193000
DTSTAMP:20260423T205143
CREATED:20190907T200838Z
LAST-MODIFIED:20190907T200842Z
UID:2790-1569781800-1569785400@dagenhambaptistchurch.com
SUMMARY:Evening service
DESCRIPTION:Pastor Brenda Toft
URL:https://dagenhambaptistchurch.com/event/evening-service-146/
LOCATION:Church Premises\, Dagenham\, United Kingdom
END:VEVENT
END:VCALENDAR