BEGIN:VCALENDAR
VERSION:2.0
PRODID:-//DBC - ECPv6.15.20//NONSGML v1.0//EN
CALSCALE:GREGORIAN
METHOD:PUBLISH
X-ORIGINAL-URL:https://dagenhambaptistchurch.com
X-WR-CALDESC:Events for DBC
REFRESH-INTERVAL;VALUE=DURATION:PT1H
X-Robots-Tag:noindex
X-PUBLISHED-TTL:PT1H
BEGIN:VTIMEZONE
TZID:Europe/London
BEGIN:DAYLIGHT
TZOFFSETFROM:+0000
TZOFFSETTO:+0100
TZNAME:BST
DTSTART:20180325T010000
END:DAYLIGHT
BEGIN:STANDARD
TZOFFSETFROM:+0100
TZOFFSETTO:+0000
TZNAME:GMT
DTSTART:20181028T010000
END:STANDARD
BEGIN:DAYLIGHT
TZOFFSETFROM:+0000
TZOFFSETTO:+0100
TZNAME:BST
DTSTART:20190331T010000
END:DAYLIGHT
BEGIN:STANDARD
TZOFFSETFROM:+0100
TZOFFSETTO:+0000
TZNAME:GMT
DTSTART:20191027T010000
END:STANDARD
BEGIN:DAYLIGHT
TZOFFSETFROM:+0000
TZOFFSETTO:+0100
TZNAME:BST
DTSTART:20200329T010000
END:DAYLIGHT
BEGIN:STANDARD
TZOFFSETFROM:+0100
TZOFFSETTO:+0000
TZNAME:GMT
DTSTART:20201025T010000
END:STANDARD
END:VTIMEZONE
BEGIN:VEVENT
DTSTART;TZID=Europe/London:20190929T180000
DTEND;TZID=Europe/London:20190929T183000
DTSTAMP:20260424T013046
CREATED:20190907T195639Z
LAST-MODIFIED:20190907T195643Z
UID:2788-1569780000-1569781800@dagenhambaptistchurch.com
SUMMARY:Prayer meeting
DESCRIPTION:Pastor Brenda Toft
URL:https://dagenhambaptistchurch.com/event/prayer-meeting-194/
LOCATION:Church Premises\, Dagenham\, United Kingdom
END:VEVENT
BEGIN:VEVENT
DTSTART;TZID=Europe/London:20190929T105000
DTEND;TZID=Europe/London:20190929T120000
DTSTAMP:20260424T013046
CREATED:20190907T181544Z
LAST-MODIFIED:20190907T181547Z
UID:2785-1569754200-1569758400@dagenhambaptistchurch.com
SUMMARY:Harvest Thanksgiving: Family worship
DESCRIPTION:Pastor Brenda Toft
URL:https://dagenhambaptistchurch.com/event/harvest-thanksgiving-family-worship-2/
LOCATION:Church Premises\, Dagenham\, United Kingdom
END:VEVENT
BEGIN:VEVENT
DTSTART;TZID=Europe/London:20190925T195000
DTEND;TZID=Europe/London:20190925T210000
DTSTAMP:20260424T013046
CREATED:20190907T201047Z
LAST-MODIFIED:20190907T201240Z
UID:2794-1569441000-1569445200@dagenhambaptistchurch.com
SUMMARY:Bible study
DESCRIPTION:Pastor Brenda Toft
URL:https://dagenhambaptistchurch.com/event/bible-study-148/
LOCATION:Church Premises\, Dagenham\, United Kingdom
END:VEVENT
BEGIN:VEVENT
DTSTART;TZID=Europe/London:20190922T183000
DTEND;TZID=Europe/London:20190922T193000
DTSTAMP:20260424T013046
CREATED:20190907T181451Z
LAST-MODIFIED:20190907T181455Z
UID:2783-1569177000-1569180600@dagenhambaptistchurch.com
SUMMARY:Evening service
DESCRIPTION:Pastor Brenda Toft
URL:https://dagenhambaptistchurch.com/event/evening-service-145/
LOCATION:Church Premises\, Dagenham\, United Kingdom
END:VEVENT
BEGIN:VEVENT
DTSTART;TZID=Europe/London:20190922T180000
DTEND;TZID=Europe/London:20190922T183000
DTSTAMP:20260424T013046
CREATED:20190907T181425Z
LAST-MODIFIED:20190907T181429Z
UID:2781-1569175200-1569177000@dagenhambaptistchurch.com
SUMMARY:Prayer meeting
DESCRIPTION:Pastor Brenda Toft
URL:https://dagenhambaptistchurch.com/event/prayer-meeting-193/
LOCATION:Church Premises\, Dagenham\, United Kingdom
END:VEVENT
BEGIN:VEVENT
DTSTART;TZID=Europe/London:20190922T105000
DTEND;TZID=Europe/London:20190922T120000
DTSTAMP:20260424T013046
CREATED:20190907T181401Z
LAST-MODIFIED:20190907T181404Z
UID:2779-1569149400-1569153600@dagenhambaptistchurch.com
SUMMARY:Family worship
DESCRIPTION:Pastor Brenda Toft
URL:https://dagenhambaptistchurch.com/event/family-worship-121/
LOCATION:Church Premises\, Dagenham\, United Kingdom
END:VEVENT
BEGIN:VEVENT
DTSTART;TZID=Europe/London:20190918T195000
DTEND;TZID=Europe/London:20190918T210000
DTSTAMP:20260424T013046
CREATED:20190907T200929Z
LAST-MODIFIED:20190907T200935Z
UID:2792-1568836200-1568840400@dagenhambaptistchurch.com
SUMMARY:Bible study
DESCRIPTION:Pastor Brenda Toft
URL:https://dagenhambaptistchurch.com/event/bible-study-147/
LOCATION:Church Premises\, Dagenham\, United Kingdom
END:VEVENT
BEGIN:VEVENT
DTSTART;TZID=Europe/London:20190915T183000
DTEND;TZID=Europe/London:20190915T193000
DTSTAMP:20260424T013046
CREATED:20190907T181029Z
LAST-MODIFIED:20190907T181032Z
UID:2777-1568572200-1568575800@dagenhambaptistchurch.com
SUMMARY:Evening service
DESCRIPTION:Pastor Brenda Toft
URL:https://dagenhambaptistchurch.com/event/evening-service-144/
LOCATION:Church Premises\, Dagenham\, United Kingdom
END:VEVENT
BEGIN:VEVENT
DTSTART;TZID=Europe/London:20190915T180000
DTEND;TZID=Europe/London:20190915T183000
DTSTAMP:20260424T013046
CREATED:20190907T180925Z
LAST-MODIFIED:20190907T180942Z
UID:2775-1568570400-1568572200@dagenhambaptistchurch.com
SUMMARY:Prayer meeting
DESCRIPTION:Pastor Brenda Toft
URL:https://dagenhambaptistchurch.com/event/prayer-meeting-192/
LOCATION:Church Premises\, Dagenham\, United Kingdom
END:VEVENT
BEGIN:VEVENT
DTSTART;TZID=Europe/London:20190915T105000
DTEND;TZID=Europe/London:20190915T120000
DTSTAMP:20260424T013046
CREATED:20190907T180857Z
LAST-MODIFIED:20190907T180901Z
UID:2773-1568544600-1568548800@dagenhambaptistchurch.com
SUMMARY:Family worship and Communion
DESCRIPTION:Pastor Brenda Toft
URL:https://dagenhambaptistchurch.com/event/family-worship-and-communion-5/
LOCATION:Church Premises\, Dagenham\, United Kingdom
END:VEVENT
BEGIN:VEVENT
DTSTART;TZID=Europe/London:20190908T183000
DTEND;TZID=Europe/London:20190908T193000
DTSTAMP:20260424T013046
CREATED:20190907T180708Z
LAST-MODIFIED:20190907T180719Z
UID:2771-1567967400-1567971000@dagenhambaptistchurch.com
SUMMARY:Evening service
DESCRIPTION:Rev. Stephen McLean
URL:https://dagenhambaptistchurch.com/event/evening-service-143/
LOCATION:Church Premises\, Dagenham\, United Kingdom
END:VEVENT
BEGIN:VEVENT
DTSTART;TZID=Europe/London:20190908T180000
DTEND;TZID=Europe/London:20190908T183000
DTSTAMP:20260424T013046
CREATED:20190907T180640Z
LAST-MODIFIED:20190907T180643Z
UID:2769-1567965600-1567967400@dagenhambaptistchurch.com
SUMMARY:Prayer meeting
DESCRIPTION:Rev. Stephen McLean
URL:https://dagenhambaptistchurch.com/event/prayer-meeting-191/
LOCATION:Church Premises\, Dagenham\, United Kingdom
END:VEVENT
BEGIN:VEVENT
DTSTART;TZID=Europe/London:20190908T105000
DTEND;TZID=Europe/London:20190908T120000
DTSTAMP:20260424T013046
CREATED:20190907T180544Z
LAST-MODIFIED:20190907T180547Z
UID:2767-1567939800-1567944000@dagenhambaptistchurch.com
SUMMARY:Family worship and Parade
DESCRIPTION:Rev. Stephen McLean
URL:https://dagenhambaptistchurch.com/event/family-worship-and-parade-3/
LOCATION:Church Premises\, Dagenham\, United Kingdom
END:VEVENT
BEGIN:VEVENT
DTSTART;TZID=Europe/London:20190731T195000
DTEND;TZID=Europe/London:20190731T210000
DTSTAMP:20260424T013046
CREATED:20190708T212645Z
LAST-MODIFIED:20190708T212651Z
UID:2758-1564602600-1564606800@dagenhambaptistchurch.com
SUMMARY:Bible study
DESCRIPTION:Rev Brenda Toft
URL:https://dagenhambaptistchurch.com/event/bible-study-146/
LOCATION:Church Premises\, Dagenham\, United Kingdom
END:VEVENT
BEGIN:VEVENT
DTSTART;TZID=Europe/London:20190728T183000
DTEND;TZID=Europe/London:20190728T193000
DTSTAMP:20260424T013046
CREATED:20190708T212006Z
LAST-MODIFIED:20190708T212015Z
UID:2747-1564338600-1564342200@dagenhambaptistchurch.com
SUMMARY:Evening service
DESCRIPTION:Rev Brenda Toft
URL:https://dagenhambaptistchurch.com/event/evening-service-142/
LOCATION:Church Premises\, Dagenham\, United Kingdom
END:VEVENT
BEGIN:VEVENT
DTSTART;TZID=Europe/London:20190728T180000
DTEND;TZID=Europe/London:20190728T183000
DTSTAMP:20260424T013046
CREATED:20190708T211637Z
LAST-MODIFIED:20190708T211637Z
UID:2745-1564336800-1564338600@dagenhambaptistchurch.com
SUMMARY:Prayer meeting
DESCRIPTION:Rev Brenda Toft
URL:https://dagenhambaptistchurch.com/event/prayer-meeting-190/
LOCATION:Church Premises\, Dagenham\, United Kingdom
END:VEVENT
BEGIN:VEVENT
DTSTART;TZID=Europe/London:20190728T105000
DTEND;TZID=Europe/London:20190728T120000
DTSTAMP:20260424T013046
CREATED:20190708T211217Z
LAST-MODIFIED:20190708T211548Z
UID:2743-1564311000-1564315200@dagenhambaptistchurch.com
SUMMARY:Family worship
DESCRIPTION:Rev Brenda Toft
URL:https://dagenhambaptistchurch.com/event/family-worship-120/
LOCATION:Church Premises\, Dagenham\, United Kingdom
END:VEVENT
BEGIN:VEVENT
DTSTART;TZID=Europe/London:20190724T195000
DTEND;TZID=Europe/London:20190724T210000
DTSTAMP:20260424T013046
CREATED:20190708T212613Z
LAST-MODIFIED:20190708T212620Z
UID:2756-1563997800-1564002000@dagenhambaptistchurch.com
SUMMARY:Bible study
DESCRIPTION:Rev Brenda Toft
URL:https://dagenhambaptistchurch.com/event/bible-study-145/
LOCATION:Church Premises\, Dagenham\, United Kingdom
END:VEVENT
BEGIN:VEVENT
DTSTART;TZID=Europe/London:20190721T183000
DTEND;TZID=Europe/London:20190721T193000
DTSTAMP:20260424T013046
CREATED:20190708T211052Z
LAST-MODIFIED:20190708T211057Z
UID:2741-1563733800-1563737400@dagenhambaptistchurch.com
SUMMARY:Evening service
DESCRIPTION:Rev Brenda Toft
URL:https://dagenhambaptistchurch.com/event/evening-service-141/
LOCATION:Church Premises\, Dagenham\, United Kingdom
END:VEVENT
BEGIN:VEVENT
DTSTART;TZID=Europe/London:20190721T180000
DTEND;TZID=Europe/London:20190721T183000
DTSTAMP:20260424T013046
CREATED:20190708T210916Z
LAST-MODIFIED:20190708T210920Z
UID:2739-1563732000-1563733800@dagenhambaptistchurch.com
SUMMARY:Prayer meeting
DESCRIPTION:Rev Brenda Toft
URL:https://dagenhambaptistchurch.com/event/prayer-meeting-189/
LOCATION:Church Premises\, Dagenham\, United Kingdom
END:VEVENT
BEGIN:VEVENT
DTSTART;TZID=Europe/London:20190721T105000
DTEND;TZID=Europe/London:20190721T120000
DTSTAMP:20260424T013046
CREATED:20190708T210409Z
LAST-MODIFIED:20190708T212131Z
UID:2737-1563706200-1563710400@dagenhambaptistchurch.com
SUMMARY:Family worship
DESCRIPTION:Ray Descombes
URL:https://dagenhambaptistchurch.com/event/family-worship-119/
LOCATION:Church Premises\, Dagenham\, United Kingdom
END:VEVENT
BEGIN:VEVENT
DTSTART;TZID=Europe/London:20190717T195000
DTEND;TZID=Europe/London:20190717T210000
DTSTAMP:20260424T013046
CREATED:20190708T212343Z
LAST-MODIFIED:20190708T212358Z
UID:2754-1563393000-1563397200@dagenhambaptistchurch.com
SUMMARY:Bible study
DESCRIPTION:Rev Brenda Toft
URL:https://dagenhambaptistchurch.com/event/bible-study-144/
LOCATION:Church Premises\, Dagenham\, United Kingdom
END:VEVENT
BEGIN:VEVENT
DTSTART;TZID=Europe/London:20190714T183000
DTEND;TZID=Europe/London:20190714T193000
DTSTAMP:20260424T013046
CREATED:20190708T210108Z
LAST-MODIFIED:20190708T210200Z
UID:2735-1563129000-1563132600@dagenhambaptistchurch.com
SUMMARY:Evening service
DESCRIPTION:Rev Brenda Toft
URL:https://dagenhambaptistchurch.com/event/evening-service-140/
LOCATION:Church Premises\, Dagenham\, United Kingdom
END:VEVENT
BEGIN:VEVENT
DTSTART;TZID=Europe/London:20190714T180000
DTEND;TZID=Europe/London:20190714T183000
DTSTAMP:20260424T013046
CREATED:20190708T205833Z
LAST-MODIFIED:20190708T205839Z
UID:2732-1563127200-1563129000@dagenhambaptistchurch.com
SUMMARY:Prayer meeting
DESCRIPTION:Rev Brenda Toft
URL:https://dagenhambaptistchurch.com/event/prayer-meeting-188/
LOCATION:Church Premises\, Dagenham\, United Kingdom
END:VEVENT
BEGIN:VEVENT
DTSTART;TZID=Europe/London:20190714T105000
DTEND;TZID=Europe/London:20190714T120000
DTSTAMP:20260424T013046
CREATED:20190708T205730Z
LAST-MODIFIED:20190708T205905Z
UID:2730-1563101400-1563105600@dagenhambaptistchurch.com
SUMMARY:Family worship & Parade
DESCRIPTION:Rev Brenda Toft
URL:https://dagenhambaptistchurch.com/event/family-worship-118/
LOCATION:Church Premises\, Dagenham\, United Kingdom
END:VEVENT
BEGIN:VEVENT
DTSTART;TZID=Europe/London:20190710T195000
DTEND;TZID=Europe/London:20190710T210000
DTSTAMP:20260424T013046
CREATED:20190708T212227Z
LAST-MODIFIED:20190708T212306Z
UID:2752-1562788200-1562792400@dagenhambaptistchurch.com
SUMMARY:Bible study
DESCRIPTION:Rev Brenda Toft
URL:https://dagenhambaptistchurch.com/event/bible-study-143/
LOCATION:Church Premises\, Dagenham\, United Kingdom
END:VEVENT
BEGIN:VEVENT
DTSTART;TZID=Europe/London:20190630T183000
DTEND;TZID=Europe/London:20190630T193000
DTSTAMP:20260424T013046
CREATED:20190601T174504Z
LAST-MODIFIED:20190601T174508Z
UID:2719-1561919400-1561923000@dagenhambaptistchurch.com
SUMMARY:Evening service
DESCRIPTION:Rev Brenda Toft
URL:https://dagenhambaptistchurch.com/event/evening-service-139/
LOCATION:Church Premises\, Dagenham\, United Kingdom
END:VEVENT
BEGIN:VEVENT
DTSTART;TZID=Europe/London:20190630T180000
DTEND;TZID=Europe/London:20190630T183000
DTSTAMP:20260424T013046
CREATED:20190601T174428Z
LAST-MODIFIED:20190601T174432Z
UID:2717-1561917600-1561919400@dagenhambaptistchurch.com
SUMMARY:Prayer meeting
DESCRIPTION:Rev Brenda Toft
URL:https://dagenhambaptistchurch.com/event/prayer-meeting-187/
LOCATION:Church Premises\, Dagenham\, United Kingdom
END:VEVENT
BEGIN:VEVENT
DTSTART;TZID=Europe/London:20190630T105000
DTEND;TZID=Europe/London:20190630T120000
DTSTAMP:20260424T013046
CREATED:20190601T174354Z
LAST-MODIFIED:20190601T174400Z
UID:2715-1561891800-1561896000@dagenhambaptistchurch.com
SUMMARY:Family worship
DESCRIPTION:Andrew Hawkins LCM
URL:https://dagenhambaptistchurch.com/event/family-worship-117/
LOCATION:Church Premises\, Dagenham\, United Kingdom
END:VEVENT
BEGIN:VEVENT
DTSTART;TZID=Europe/London:20190626T195000
DTEND;TZID=Europe/London:20190626T210000
DTSTAMP:20260424T013046
CREATED:20190601T174956Z
LAST-MODIFIED:20190601T175003Z
UID:2727-1561578600-1561582800@dagenhambaptistchurch.com
SUMMARY:Bible study
DESCRIPTION:Rev Brenda Toft
URL:https://dagenhambaptistchurch.com/event/bible-study-142/
LOCATION:Church Premises\, Dagenham\, United Kingdom
END:VEVENT
END:VCALENDAR